BEGIN:VCALENDAR
VERSION:2.0
PRODID:-//Just Say Yes - ECPv6.15.20//NONSGML v1.0//EN
CALSCALE:GREGORIAN
METHOD:PUBLISH
X-ORIGINAL-URL:https://justsayyesky.org
X-WR-CALDESC:Events for Just Say Yes
REFRESH-INTERVAL;VALUE=DURATION:PT1H
X-Robots-Tag:noindex
X-PUBLISHED-TTL:PT1H
BEGIN:VTIMEZONE
TZID:UTC
BEGIN:STANDARD
TZOFFSETFROM:+0000
TZOFFSETTO:+0000
TZNAME:UTC
DTSTART:20250101T000000
END:STANDARD
END:VTIMEZONE
BEGIN:VEVENT
DTSTART;TZID=UTC:20260408T090000
DTEND;TZID=UTC:20260626T170000
DTSTAMP:20260423T170730
CREATED:20260310T053414Z
LAST-MODIFIED:20260310T053414Z
UID:10004521-1775638800-1782493200@justsayyesky.org
SUMMARY:School of Rock
DESCRIPTION:Rock got no reason\, rock got no rhyme… You better get me to school on time! Andrew Lloyd Webber’s School of Rock: Young Actors Edition is a dynamic\, one-hour version of the musical based on the hit movie\, designed especially for young performers. The tuner follows Dewey Finn\, a failed\, wannabe rock star who decides to earn an extra bit of cash by posing as a substitute teacher at a prestigious prep school. There he turns a class of straight-A pupils into a guitar-shredding\, bass-slapping\, mind-blowing rock band. But can he get them to the Battle of the Bands without their parents and the school’s headmistress finding out?\n\n*WOODFORD THEATER*
URL:https://justsayyesky.org/event/school-of-rock/
CATEGORIES:YES Card Accepted
END:VEVENT
BEGIN:VEVENT
DTSTART;TZID=UTC:20260415T093000
DTEND;TZID=UTC:20260618T143000
DTSTAMP:20260423T170730
CREATED:20260319T161730Z
LAST-MODIFIED:20260319T161730Z
UID:10004798-1776245400-1781793000@justsayyesky.org
SUMMARY:Summer Forest School
DESCRIPTION:Summer Forest School is a chance to explore\, learn\, and play with Red Oaks during the summer season. This drop-off program for ages 3-12 will provide a balance of mixed-age large group and similar-aged small group exploration\, education\, and play each day.
URL:https://justsayyesky.org/event/summer-forest-school/
END:VEVENT
BEGIN:VEVENT
DTSTART;VALUE=DATE:20260530
DTEND;VALUE=DATE:20260606
DTSTAMP:20260423T170730
CREATED:20260310T061055Z
LAST-MODIFIED:20260310T061055Z
UID:10004795-1780099200-1780703999@justsayyesky.org
SUMMARY:Kentuckiana College Camp Tour
DESCRIPTION:
URL:https://justsayyesky.org/event/kentuckiana-college-camp-tour/
CATEGORIES:FREE
ATTACH;FMTTYPE=image/png:https://justsayyesky.org/wp-content/uploads/2026/03/CollegeCampTour-1.png
END:VEVENT
BEGIN:VEVENT
DTSTART;TZID=UTC:20260601T090000
DTEND;TZID=UTC:20260605T120000
DTSTAMP:20260423T170730
CREATED:20260310T055012Z
LAST-MODIFIED:20260310T055012Z
UID:10004526-1780304400-1780660800@justsayyesky.org
SUMMARY:Summer Camp
DESCRIPTION:Broadway Clay offers week-long clay camps in a professional studio environment. Through exploration\, students become independent learners who aren’t afraid to freely create and make messy mistakes! Our qualified instructors teach skills that allow students to develop artwork worthy for a portfolio. Class descriptions and ages are below. If your child is age 13+\, email us about volunteer opportunities during camp.
URL:https://justsayyesky.org/event/summer-camp/
CATEGORIES:Art,YES Card Accepted
ATTACH;FMTTYPE=image/webp:https://justsayyesky.org/wp-content/uploads/2026/03/DNG4C5P7LSVPNTYI475O2V6B.webp
END:VEVENT
BEGIN:VEVENT
DTSTART;TZID=UTC:20260602T160000
DTEND;TZID=UTC:20260602T170000
DTSTAMP:20260423T170730
CREATED:20260115T184910Z
LAST-MODIFIED:20260115T184910Z
UID:10004202-1780416000-1780419600@justsayyesky.org
SUMMARY:Kids Classes at Broadway Clay
DESCRIPTION:Ages 7-17\nEach session includes 4 classes beginning on the first Tuesday of the month. \nKids classes are a way to explore clay while expanding creativity\, problem solving\, and building artistic techniques. Students will handbuild\, throw on the wheel\, and glaze. As students continue to attend monthly classes they will build upon their skills to work independently. Our instructors will customize the class for each age range.
URL:https://justsayyesky.org/event/kids-classes-at-broadway-clay/2026-06-02/
LOCATION:Broadway Clay\, 223 West Broadway\, Frankfort\, KY\, 40601\, United States
CATEGORIES:Art,Elementary School,High School,Middle School,YES Card Accepted
ATTACH;FMTTYPE=image/webp:https://justsayyesky.org/wp-content/uploads/2026/01/ET4Z4UPX227MMTYL7P3U74DE.webp
ORGANIZER;CN="Broadway Clay":MAILTO:BroadwayClayStudio@gmail.com
END:VEVENT
BEGIN:VEVENT
DTSTART;TZID=UTC:20260602T160000
DTEND;TZID=UTC:20260602T170000
DTSTAMP:20260423T170730
CREATED:20260203T174618Z
LAST-MODIFIED:20260203T174618Z
UID:10004256-1780416000-1780419600@justsayyesky.org
SUMMARY:Broadway Clay Kids Class Tuesdays
DESCRIPTION:Every Tuesday from 4-5pm kids can have a pottery night at Broadway Clay!
URL:https://justsayyesky.org/event/broadway-clay-kids-class-tuesdays/2026-06-02/
CATEGORIES:Elementary School,High School,Middle School,YES Card Accepted
ATTACH;FMTTYPE=image/png:https://justsayyesky.org/wp-content/uploads/2026/02/unnamed-1.png
END:VEVENT
BEGIN:VEVENT
DTSTART;TZID=UTC:20260602T170000
DTEND;TZID=UTC:20260602T180000
DTSTAMP:20260423T170730
CREATED:20260115T180057Z
LAST-MODIFIED:20260115T180057Z
UID:10003981-1780419600-1780423200@justsayyesky.org
SUMMARY:Beginner Acro
DESCRIPTION:Designed with the beginning acro student (ages 8-11) in mind\, Beginning Acro introduces basic gymnastic concepts in conjunction with basic dance training. Pre-Professional Division students with experience in Youth Division Acro\, or no former acro training\, are encouraged to start in this Pre-Professional Division class.
URL:https://justsayyesky.org/event/beginner-acro/2026-06-02/
LOCATION:Kentucky Dance Academy\, 316 Wapping Street\, Frankfort\, Kentucky\, 40601\, United States
CATEGORIES:Elementary School,Middle School,YES Card Accepted
ATTACH;FMTTYPE=image/jpeg:https://justsayyesky.org/wp-content/uploads/2026/01/612052612_18299302228272126_9063933446306011561_n.jpg
ORGANIZER;CN="Kentucy Dance Academy":MAILTO:amanda@kydanceacademy.com
END:VEVENT
END:VCALENDAR