BEGIN:VCALENDAR
VERSION:2.0
PRODID:-//Just Say Yes - ECPv6.15.20//NONSGML v1.0//EN
CALSCALE:GREGORIAN
METHOD:PUBLISH
X-ORIGINAL-URL:https://justsayyesky.org
X-WR-CALDESC:Events for Just Say Yes
REFRESH-INTERVAL;VALUE=DURATION:PT1H
X-Robots-Tag:noindex
X-PUBLISHED-TTL:PT1H
BEGIN:VTIMEZONE
TZID:UTC
BEGIN:STANDARD
TZOFFSETFROM:+0000
TZOFFSETTO:+0000
TZNAME:UTC
DTSTART:20250101T000000
END:STANDARD
END:VTIMEZONE
BEGIN:VEVENT
DTSTART;TZID=UTC:20260408T090000
DTEND;TZID=UTC:20260626T170000
DTSTAMP:20260423T222319
CREATED:20260310T053414Z
LAST-MODIFIED:20260310T053414Z
UID:10004521-1775638800-1782493200@justsayyesky.org
SUMMARY:School of Rock
DESCRIPTION:Rock got no reason\, rock got no rhyme… You better get me to school on time! Andrew Lloyd Webber’s School of Rock: Young Actors Edition is a dynamic\, one-hour version of the musical based on the hit movie\, designed especially for young performers. The tuner follows Dewey Finn\, a failed\, wannabe rock star who decides to earn an extra bit of cash by posing as a substitute teacher at a prestigious prep school. There he turns a class of straight-A pupils into a guitar-shredding\, bass-slapping\, mind-blowing rock band. But can he get them to the Battle of the Bands without their parents and the school’s headmistress finding out?\n\n*WOODFORD THEATER*
URL:https://justsayyesky.org/event/school-of-rock/
CATEGORIES:YES Card Accepted
END:VEVENT
BEGIN:VEVENT
DTSTART;TZID=UTC:20260608T090000
DTEND;TZID=UTC:20260626T170000
DTSTAMP:20260423T222319
CREATED:20260310T053208Z
LAST-MODIFIED:20260310T053208Z
UID:10004520-1780909200-1782493200@justsayyesky.org
SUMMARY:Madagascar Jr.
DESCRIPTION:Join Alex the Lion\, Marty the Zebra\, Melman the Giraffe\, Gloria the hip hip Hippo and\, of course\, those hilarious\, plotting penguins as they bound onto your stage in the musical adventure of a lifetime.  Based on the smash DreamWorks animated motion picture\, Madagascar – A Musical Adventure JR. follows all of your favorite friends as they escape from their home in New York’s Central Park Zoo and find themselves on an unexpected journey to the madcap world of King Julien’s Madagascar.   Alex the lion is the king of the urban jungle\, the main attraction at New York’s Central Park Zoo. He and his best friends — Marty the zebra\, Melman the giraffe and Gloria the hippo — have spent their whole lives in blissful captivity before an admiring public and with regular meals provided for them. Not content to leave well enough alone\, Marty lets his curiosity get the better of him and makes his escape — with the help of some prodigious penguins — to explore the world. \n*WOODFORD THEATER*
URL:https://justsayyesky.org/event/madagascar-jr/
CATEGORIES:YES Card Accepted
END:VEVENT
BEGIN:VEVENT
DTSTART;TZID=UTC:20260615T080000
DTEND;TZID=UTC:20260626T120000
DTSTAMP:20260423T222319
CREATED:20260319T163607Z
LAST-MODIFIED:20260319T163607Z
UID:10004801-1781510400-1782475200@justsayyesky.org
SUMMARY:Camp Fido
DESCRIPTION:A camp where you get to learn how to take care of animals\, play with dogs & cats\, meet therapy dogs\, and do arts & crafts. The first week is for ages 8-10 and the second week is for ages 10-13. The cost is $175 per week.
URL:https://justsayyesky.org/event/camp-fido/
CATEGORIES:Art,Elementary School,Family Fun,Middle School
ATTACH;FMTTYPE=image/png:https://justsayyesky.org/wp-content/uploads/2026/03/CAMP-FIDO-2026-FLYER.png
END:VEVENT
BEGIN:VEVENT
DTSTART;TZID=UTC:20260625T160000
DTEND;TZID=UTC:20260625T170000
DTSTAMP:20260423T222319
CREATED:20250203T183348Z
LAST-MODIFIED:20250203T183348Z
UID:10002183-1782403200-1782406800@justsayyesky.org
SUMMARY:Infinity Kids Fitness Classes
DESCRIPTION:Ages 6-13 \nThursdays @ 4PM & Saturdays @ 11am \n$50/ month
URL:https://justsayyesky.org/event/infinity-kids-fitness-classes/2026-06-25/
ATTACH;FMTTYPE=image/png:https://justsayyesky.org/wp-content/uploads/2025/02/Screenshot-2025-02-03-at-1.33.15 PM.png
END:VEVENT
END:VCALENDAR