BEGIN:VCALENDAR
VERSION:2.0
PRODID:-//Just Say Yes - ECPv6.15.20//NONSGML v1.0//EN
CALSCALE:GREGORIAN
METHOD:PUBLISH
X-ORIGINAL-URL:https://justsayyesky.org
X-WR-CALDESC:Events for Just Say Yes
REFRESH-INTERVAL;VALUE=DURATION:PT1H
X-Robots-Tag:noindex
X-PUBLISHED-TTL:PT1H
BEGIN:VTIMEZONE
TZID:UTC
BEGIN:STANDARD
TZOFFSETFROM:+0000
TZOFFSETTO:+0000
TZNAME:UTC
DTSTART:20250101T000000
END:STANDARD
END:VTIMEZONE
BEGIN:VEVENT
DTSTART;TZID=UTC:20260704T083000
DTEND;TZID=UTC:20260704T120000
DTSTAMP:20260423T171936
CREATED:20240424T143235Z
LAST-MODIFIED:20240424T155228Z
UID:10001300-1783153800-1783166400@justsayyesky.org
SUMMARY:Franklin County Farmers Market
DESCRIPTION:Walk through our market and see fresh produce\, eggs\, breads\, meats\, jams and salsa\, cheese\, soap\, plants\, and more\, all produced in Franklin and surrounding counties.  Enjoy fresh food\, support local farmers\, and chat with friends. \nKids Days at the Market are held every month on the second Saturday. More information coming soon!
URL:https://justsayyesky.org/event/franklin-county-farmers-market/2026-07-04/
LOCATION:Market Pavilion at River View Park\, 404 Wilkinson Blvd\, Frankfort\, 40601\, United States
CATEGORIES:Family Fun
ATTACH;FMTTYPE=image/jpeg:https://justsayyesky.org/wp-content/uploads/2024/04/326341322_1395911114550974_5256135233053342153_n.jpg
ORGANIZER;CN="Franklin County Farmers Market":MAILTO:local@franklincountyfarmersmarket.org
END:VEVENT
BEGIN:VEVENT
DTSTART;TZID=UTC:20260704T110000
DTEND;TZID=UTC:20260704T120000
DTSTAMP:20260423T171936
CREATED:20250203T183526Z
LAST-MODIFIED:20250203T183526Z
UID:10002445-1783162800-1783166400@justsayyesky.org
SUMMARY:Infinity Kids Fitness Classes
DESCRIPTION:Ages 6-13 \nThursdays @ 4PM & Saturdays @ 11am \n$50/ month
URL:https://justsayyesky.org/event/infinity-kids-fitness-classes-2/2026-07-04/
ATTACH;FMTTYPE=image/png:https://justsayyesky.org/wp-content/uploads/2025/02/Screenshot-2025-02-03-at-1.34.45 PM.png
END:VEVENT
END:VCALENDAR