BEGIN:VCALENDAR
VERSION:2.0
PRODID:-//Just Say Yes - ECPv6.15.20//NONSGML v1.0//EN
CALSCALE:GREGORIAN
METHOD:PUBLISH
X-WR-CALNAME:Just Say Yes
X-ORIGINAL-URL:https://justsayyesky.org
X-WR-CALDESC:Events for Just Say Yes
REFRESH-INTERVAL;VALUE=DURATION:PT1H
X-Robots-Tag:noindex
X-PUBLISHED-TTL:PT1H
BEGIN:VTIMEZONE
TZID:UTC
BEGIN:STANDARD
TZOFFSETFROM:+0000
TZOFFSETTO:+0000
TZNAME:UTC
DTSTART:20250101T000000
END:STANDARD
END:VTIMEZONE
BEGIN:VEVENT
DTSTART;TZID=UTC:20260714T170000
DTEND;TZID=UTC:20260714T180000
DTSTAMP:20260423T180216
CREATED:20260115T180057Z
LAST-MODIFIED:20260115T180057Z
UID:10003987-1784048400-1784052000@justsayyesky.org
SUMMARY:Beginner Acro
DESCRIPTION:Designed with the beginning acro student (ages 8-11) in mind\, Beginning Acro introduces basic gymnastic concepts in conjunction with basic dance training. Pre-Professional Division students with experience in Youth Division Acro\, or no former acro training\, are encouraged to start in this Pre-Professional Division class.
URL:https://justsayyesky.org/event/beginner-acro/2026-07-14/
LOCATION:Kentucky Dance Academy\, 316 Wapping Street\, Frankfort\, Kentucky\, 40601\, United States
CATEGORIES:Elementary School,Middle School,YES Card Accepted
ATTACH;FMTTYPE=image/jpeg:https://justsayyesky.org/wp-content/uploads/2026/01/612052612_18299302228272126_9063933446306011561_n.jpg
ORGANIZER;CN="Kentucy Dance Academy":MAILTO:amanda@kydanceacademy.com
END:VEVENT
BEGIN:VEVENT
DTSTART;TZID=UTC:20260717T180000
DTEND;TZID=UTC:20260717T193000
DTSTAMP:20260423T180216
CREATED:20260115T184004Z
LAST-MODIFIED:20260115T184005Z
UID:10004191-1784311200-1784316600@justsayyesky.org
SUMMARY:Kids Clay Night with Broadway Clay
DESCRIPTION:Kids Clay Night or Parents Night Out\nAges: 5-12 \nKids night is designed as a fun introduction to clay in a professional studio environment. This is a perfect time to drop your kids off in a safe & enriching environment while you eat dinner downtown or run some errands! \nPottery will be ready for pick up in 2 to 3 weeks\, and you will receive an email or text when finished. \nNote that children need to be able to work on their own\, as it is a drop-off program.
URL:https://justsayyesky.org/event/kids-clay-night-with-broadway-clay/2026-07-17/
LOCATION:Broadway Clay\, 223 West Broadway\, Frankfort\, KY\, 40601\, United States
CATEGORIES:Art,Elementary School,Middle School,Ticket Required,YES Card Accepted
ATTACH;FMTTYPE=image/jpeg:https://justsayyesky.org/wp-content/uploads/2025/07/s236415246785929882_p379_i7_w1080.png.jpg
ORGANIZER;CN="Broadway Clay":MAILTO:BroadwayClayStudio@gmail.com
END:VEVENT
BEGIN:VEVENT
DTSTART;TZID=UTC:20260721T160000
DTEND;TZID=UTC:20260721T170000
DTSTAMP:20260423T180216
CREATED:20260203T174618Z
LAST-MODIFIED:20260203T174618Z
UID:10004263-1784649600-1784653200@justsayyesky.org
SUMMARY:Broadway Clay Kids Class Tuesdays
DESCRIPTION:Every Tuesday from 4-5pm kids can have a pottery night at Broadway Clay!
URL:https://justsayyesky.org/event/broadway-clay-kids-class-tuesdays/2026-07-21/
CATEGORIES:Elementary School,High School,Middle School,YES Card Accepted
ATTACH;FMTTYPE=image/png:https://justsayyesky.org/wp-content/uploads/2026/02/unnamed-1.png
END:VEVENT
BEGIN:VEVENT
DTSTART;TZID=UTC:20260721T170000
DTEND;TZID=UTC:20260721T180000
DTSTAMP:20260423T180216
CREATED:20260115T180057Z
LAST-MODIFIED:20260115T180057Z
UID:10003988-1784653200-1784656800@justsayyesky.org
SUMMARY:Beginner Acro
DESCRIPTION:Designed with the beginning acro student (ages 8-11) in mind\, Beginning Acro introduces basic gymnastic concepts in conjunction with basic dance training. Pre-Professional Division students with experience in Youth Division Acro\, or no former acro training\, are encouraged to start in this Pre-Professional Division class.
URL:https://justsayyesky.org/event/beginner-acro/2026-07-21/
LOCATION:Kentucky Dance Academy\, 316 Wapping Street\, Frankfort\, Kentucky\, 40601\, United States
CATEGORIES:Elementary School,Middle School,YES Card Accepted
ATTACH;FMTTYPE=image/jpeg:https://justsayyesky.org/wp-content/uploads/2026/01/612052612_18299302228272126_9063933446306011561_n.jpg
ORGANIZER;CN="Kentucy Dance Academy":MAILTO:amanda@kydanceacademy.com
END:VEVENT
BEGIN:VEVENT
DTSTART;TZID=UTC:20260728T160000
DTEND;TZID=UTC:20260728T170000
DTSTAMP:20260423T180216
CREATED:20260203T174618Z
LAST-MODIFIED:20260203T174618Z
UID:10004264-1785254400-1785258000@justsayyesky.org
SUMMARY:Broadway Clay Kids Class Tuesdays
DESCRIPTION:Every Tuesday from 4-5pm kids can have a pottery night at Broadway Clay!
URL:https://justsayyesky.org/event/broadway-clay-kids-class-tuesdays/2026-07-28/
CATEGORIES:Elementary School,High School,Middle School,YES Card Accepted
ATTACH;FMTTYPE=image/png:https://justsayyesky.org/wp-content/uploads/2026/02/unnamed-1.png
END:VEVENT
BEGIN:VEVENT
DTSTART;TZID=UTC:20260728T170000
DTEND;TZID=UTC:20260728T180000
DTSTAMP:20260423T180216
CREATED:20260115T180057Z
LAST-MODIFIED:20260115T180057Z
UID:10003989-1785258000-1785261600@justsayyesky.org
SUMMARY:Beginner Acro
DESCRIPTION:Designed with the beginning acro student (ages 8-11) in mind\, Beginning Acro introduces basic gymnastic concepts in conjunction with basic dance training. Pre-Professional Division students with experience in Youth Division Acro\, or no former acro training\, are encouraged to start in this Pre-Professional Division class.
URL:https://justsayyesky.org/event/beginner-acro/2026-07-28/
LOCATION:Kentucky Dance Academy\, 316 Wapping Street\, Frankfort\, Kentucky\, 40601\, United States
CATEGORIES:Elementary School,Middle School,YES Card Accepted
ATTACH;FMTTYPE=image/jpeg:https://justsayyesky.org/wp-content/uploads/2026/01/612052612_18299302228272126_9063933446306011561_n.jpg
ORGANIZER;CN="Kentucy Dance Academy":MAILTO:amanda@kydanceacademy.com
END:VEVENT
BEGIN:VEVENT
DTSTART;TZID=UTC:20260804T160000
DTEND;TZID=UTC:20260804T170000
DTSTAMP:20260423T180216
CREATED:20260115T184910Z
LAST-MODIFIED:20260115T184910Z
UID:10004204-1785859200-1785862800@justsayyesky.org
SUMMARY:Kids Classes at Broadway Clay
DESCRIPTION:Ages 7-17\nEach session includes 4 classes beginning on the first Tuesday of the month. \nKids classes are a way to explore clay while expanding creativity\, problem solving\, and building artistic techniques. Students will handbuild\, throw on the wheel\, and glaze. As students continue to attend monthly classes they will build upon their skills to work independently. Our instructors will customize the class for each age range.
URL:https://justsayyesky.org/event/kids-classes-at-broadway-clay/2026-08-04/
LOCATION:Broadway Clay\, 223 West Broadway\, Frankfort\, KY\, 40601\, United States
CATEGORIES:Art,Elementary School,High School,Middle School,YES Card Accepted
ATTACH;FMTTYPE=image/webp:https://justsayyesky.org/wp-content/uploads/2026/01/ET4Z4UPX227MMTYL7P3U74DE.webp
ORGANIZER;CN="Broadway Clay":MAILTO:BroadwayClayStudio@gmail.com
END:VEVENT
BEGIN:VEVENT
DTSTART;TZID=UTC:20260804T160000
DTEND;TZID=UTC:20260804T170000
DTSTAMP:20260423T180216
CREATED:20260203T174618Z
LAST-MODIFIED:20260203T174618Z
UID:10004265-1785859200-1785862800@justsayyesky.org
SUMMARY:Broadway Clay Kids Class Tuesdays
DESCRIPTION:Every Tuesday from 4-5pm kids can have a pottery night at Broadway Clay!
URL:https://justsayyesky.org/event/broadway-clay-kids-class-tuesdays/2026-08-04/
CATEGORIES:Elementary School,High School,Middle School,YES Card Accepted
ATTACH;FMTTYPE=image/png:https://justsayyesky.org/wp-content/uploads/2026/02/unnamed-1.png
END:VEVENT
BEGIN:VEVENT
DTSTART;TZID=UTC:20260804T170000
DTEND;TZID=UTC:20260804T180000
DTSTAMP:20260423T180216
CREATED:20260115T180057Z
LAST-MODIFIED:20260115T180057Z
UID:10003990-1785862800-1785866400@justsayyesky.org
SUMMARY:Beginner Acro
DESCRIPTION:Designed with the beginning acro student (ages 8-11) in mind\, Beginning Acro introduces basic gymnastic concepts in conjunction with basic dance training. Pre-Professional Division students with experience in Youth Division Acro\, or no former acro training\, are encouraged to start in this Pre-Professional Division class.
URL:https://justsayyesky.org/event/beginner-acro/2026-08-04/
LOCATION:Kentucky Dance Academy\, 316 Wapping Street\, Frankfort\, Kentucky\, 40601\, United States
CATEGORIES:Elementary School,Middle School,YES Card Accepted
ATTACH;FMTTYPE=image/jpeg:https://justsayyesky.org/wp-content/uploads/2026/01/612052612_18299302228272126_9063933446306011561_n.jpg
ORGANIZER;CN="Kentucy Dance Academy":MAILTO:amanda@kydanceacademy.com
END:VEVENT
BEGIN:VEVENT
DTSTART;TZID=UTC:20260808T100000
DTEND;TZID=UTC:20260808T120000
DTSTAMP:20260423T180216
CREATED:20250829T015459Z
LAST-MODIFIED:20250829T015459Z
UID:10003867-1786183200-1786190400@justsayyesky.org
SUMMARY:Red Oaks Forest School Art Club
DESCRIPTION:Josephine Sculpture Park partners up with Red Oaks Forest School to host a free\, all-ages Art Club the second Saturday of each month! Art and nature are perfect partners. Creating art helps us explore our feelings and deepen observations of the world around us. Nature is constantly inspiring so many feelings\, wonders\, thoughts\, questions\, and more. Spending time in nature and making art\, both help to reduce stress and explore feelings\, which can be so important for kids\, especially in underserved communities. \nAll ages are welcome for an open art studio in nature. We welcome registration by email to ensure there are plenty of materials available at registration@redoaksforestschool.org.
URL:https://justsayyesky.org/event/red-oaks-forest-school-art-club/2026-08-08/
LOCATION:Josephine Sculpture Park\, 3355 Lawrenceburg Road\, Frankfort\, KY\, 40601\, United States
CATEGORIES:Art,Elementary School,FREE,Middle School
ORGANIZER;CN="Josephine Sculpture Park":MAILTO:info@josephinesculpturepark.org
END:VEVENT
BEGIN:VEVENT
DTSTART;TZID=UTC:20260811T160000
DTEND;TZID=UTC:20260811T170000
DTSTAMP:20260423T180216
CREATED:20260203T174618Z
LAST-MODIFIED:20260203T174618Z
UID:10004266-1786464000-1786467600@justsayyesky.org
SUMMARY:Broadway Clay Kids Class Tuesdays
DESCRIPTION:Every Tuesday from 4-5pm kids can have a pottery night at Broadway Clay!
URL:https://justsayyesky.org/event/broadway-clay-kids-class-tuesdays/2026-08-11/
CATEGORIES:Elementary School,High School,Middle School,YES Card Accepted
ATTACH;FMTTYPE=image/png:https://justsayyesky.org/wp-content/uploads/2026/02/unnamed-1.png
END:VEVENT
BEGIN:VEVENT
DTSTART;TZID=UTC:20260811T170000
DTEND;TZID=UTC:20260811T180000
DTSTAMP:20260423T180216
CREATED:20260115T180057Z
LAST-MODIFIED:20260115T180057Z
UID:10003991-1786467600-1786471200@justsayyesky.org
SUMMARY:Beginner Acro
DESCRIPTION:Designed with the beginning acro student (ages 8-11) in mind\, Beginning Acro introduces basic gymnastic concepts in conjunction with basic dance training. Pre-Professional Division students with experience in Youth Division Acro\, or no former acro training\, are encouraged to start in this Pre-Professional Division class.
URL:https://justsayyesky.org/event/beginner-acro/2026-08-11/
LOCATION:Kentucky Dance Academy\, 316 Wapping Street\, Frankfort\, Kentucky\, 40601\, United States
CATEGORIES:Elementary School,Middle School,YES Card Accepted
ATTACH;FMTTYPE=image/jpeg:https://justsayyesky.org/wp-content/uploads/2026/01/612052612_18299302228272126_9063933446306011561_n.jpg
ORGANIZER;CN="Kentucy Dance Academy":MAILTO:amanda@kydanceacademy.com
END:VEVENT
BEGIN:VEVENT
DTSTART;TZID=UTC:20260818T160000
DTEND;TZID=UTC:20260818T170000
DTSTAMP:20260423T180216
CREATED:20260203T174618Z
LAST-MODIFIED:20260203T174618Z
UID:10004267-1787068800-1787072400@justsayyesky.org
SUMMARY:Broadway Clay Kids Class Tuesdays
DESCRIPTION:Every Tuesday from 4-5pm kids can have a pottery night at Broadway Clay!
URL:https://justsayyesky.org/event/broadway-clay-kids-class-tuesdays/2026-08-18/
CATEGORIES:Elementary School,High School,Middle School,YES Card Accepted
ATTACH;FMTTYPE=image/png:https://justsayyesky.org/wp-content/uploads/2026/02/unnamed-1.png
END:VEVENT
BEGIN:VEVENT
DTSTART;TZID=UTC:20260818T170000
DTEND;TZID=UTC:20260818T180000
DTSTAMP:20260423T180216
CREATED:20260115T180057Z
LAST-MODIFIED:20260115T180057Z
UID:10003992-1787072400-1787076000@justsayyesky.org
SUMMARY:Beginner Acro
DESCRIPTION:Designed with the beginning acro student (ages 8-11) in mind\, Beginning Acro introduces basic gymnastic concepts in conjunction with basic dance training. Pre-Professional Division students with experience in Youth Division Acro\, or no former acro training\, are encouraged to start in this Pre-Professional Division class.
URL:https://justsayyesky.org/event/beginner-acro/2026-08-18/
LOCATION:Kentucky Dance Academy\, 316 Wapping Street\, Frankfort\, Kentucky\, 40601\, United States
CATEGORIES:Elementary School,Middle School,YES Card Accepted
ATTACH;FMTTYPE=image/jpeg:https://justsayyesky.org/wp-content/uploads/2026/01/612052612_18299302228272126_9063933446306011561_n.jpg
ORGANIZER;CN="Kentucy Dance Academy":MAILTO:amanda@kydanceacademy.com
END:VEVENT
BEGIN:VEVENT
DTSTART;TZID=UTC:20260825T160000
DTEND;TZID=UTC:20260825T170000
DTSTAMP:20260423T180216
CREATED:20260203T174618Z
LAST-MODIFIED:20260203T174618Z
UID:10004268-1787673600-1787677200@justsayyesky.org
SUMMARY:Broadway Clay Kids Class Tuesdays
DESCRIPTION:Every Tuesday from 4-5pm kids can have a pottery night at Broadway Clay!
URL:https://justsayyesky.org/event/broadway-clay-kids-class-tuesdays/2026-08-25/
CATEGORIES:Elementary School,High School,Middle School,YES Card Accepted
ATTACH;FMTTYPE=image/png:https://justsayyesky.org/wp-content/uploads/2026/02/unnamed-1.png
END:VEVENT
BEGIN:VEVENT
DTSTART;TZID=UTC:20260825T170000
DTEND;TZID=UTC:20260825T180000
DTSTAMP:20260423T180216
CREATED:20260115T180057Z
LAST-MODIFIED:20260115T180057Z
UID:10003993-1787677200-1787680800@justsayyesky.org
SUMMARY:Beginner Acro
DESCRIPTION:Designed with the beginning acro student (ages 8-11) in mind\, Beginning Acro introduces basic gymnastic concepts in conjunction with basic dance training. Pre-Professional Division students with experience in Youth Division Acro\, or no former acro training\, are encouraged to start in this Pre-Professional Division class.
URL:https://justsayyesky.org/event/beginner-acro/2026-08-25/
LOCATION:Kentucky Dance Academy\, 316 Wapping Street\, Frankfort\, Kentucky\, 40601\, United States
CATEGORIES:Elementary School,Middle School,YES Card Accepted
ATTACH;FMTTYPE=image/jpeg:https://justsayyesky.org/wp-content/uploads/2026/01/612052612_18299302228272126_9063933446306011561_n.jpg
ORGANIZER;CN="Kentucy Dance Academy":MAILTO:amanda@kydanceacademy.com
END:VEVENT
BEGIN:VEVENT
DTSTART;TZID=UTC:20260901T160000
DTEND;TZID=UTC:20260901T170000
DTSTAMP:20260423T180216
CREATED:20260115T184910Z
LAST-MODIFIED:20260115T184910Z
UID:10004205-1788278400-1788282000@justsayyesky.org
SUMMARY:Kids Classes at Broadway Clay
DESCRIPTION:Ages 7-17\nEach session includes 4 classes beginning on the first Tuesday of the month. \nKids classes are a way to explore clay while expanding creativity\, problem solving\, and building artistic techniques. Students will handbuild\, throw on the wheel\, and glaze. As students continue to attend monthly classes they will build upon their skills to work independently. Our instructors will customize the class for each age range.
URL:https://justsayyesky.org/event/kids-classes-at-broadway-clay/2026-09-01/
LOCATION:Broadway Clay\, 223 West Broadway\, Frankfort\, KY\, 40601\, United States
CATEGORIES:Art,Elementary School,High School,Middle School,YES Card Accepted
ATTACH;FMTTYPE=image/webp:https://justsayyesky.org/wp-content/uploads/2026/01/ET4Z4UPX227MMTYL7P3U74DE.webp
ORGANIZER;CN="Broadway Clay":MAILTO:BroadwayClayStudio@gmail.com
END:VEVENT
BEGIN:VEVENT
DTSTART;TZID=UTC:20260901T160000
DTEND;TZID=UTC:20260901T170000
DTSTAMP:20260423T180216
CREATED:20260203T174618Z
LAST-MODIFIED:20260203T174618Z
UID:10004269-1788278400-1788282000@justsayyesky.org
SUMMARY:Broadway Clay Kids Class Tuesdays
DESCRIPTION:Every Tuesday from 4-5pm kids can have a pottery night at Broadway Clay!
URL:https://justsayyesky.org/event/broadway-clay-kids-class-tuesdays/2026-09-01/
CATEGORIES:Elementary School,High School,Middle School,YES Card Accepted
ATTACH;FMTTYPE=image/png:https://justsayyesky.org/wp-content/uploads/2026/02/unnamed-1.png
END:VEVENT
BEGIN:VEVENT
DTSTART;TZID=UTC:20260901T170000
DTEND;TZID=UTC:20260901T180000
DTSTAMP:20260423T180216
CREATED:20260115T180057Z
LAST-MODIFIED:20260115T180057Z
UID:10003994-1788282000-1788285600@justsayyesky.org
SUMMARY:Beginner Acro
DESCRIPTION:Designed with the beginning acro student (ages 8-11) in mind\, Beginning Acro introduces basic gymnastic concepts in conjunction with basic dance training. Pre-Professional Division students with experience in Youth Division Acro\, or no former acro training\, are encouraged to start in this Pre-Professional Division class.
URL:https://justsayyesky.org/event/beginner-acro/2026-09-01/
LOCATION:Kentucky Dance Academy\, 316 Wapping Street\, Frankfort\, Kentucky\, 40601\, United States
CATEGORIES:Elementary School,Middle School,YES Card Accepted
ATTACH;FMTTYPE=image/jpeg:https://justsayyesky.org/wp-content/uploads/2026/01/612052612_18299302228272126_9063933446306011561_n.jpg
ORGANIZER;CN="Kentucy Dance Academy":MAILTO:amanda@kydanceacademy.com
END:VEVENT
BEGIN:VEVENT
DTSTART;TZID=UTC:20260908T160000
DTEND;TZID=UTC:20260908T170000
DTSTAMP:20260423T180216
CREATED:20260203T174618Z
LAST-MODIFIED:20260203T174618Z
UID:10004270-1788883200-1788886800@justsayyesky.org
SUMMARY:Broadway Clay Kids Class Tuesdays
DESCRIPTION:Every Tuesday from 4-5pm kids can have a pottery night at Broadway Clay!
URL:https://justsayyesky.org/event/broadway-clay-kids-class-tuesdays/2026-09-08/
CATEGORIES:Elementary School,High School,Middle School,YES Card Accepted
ATTACH;FMTTYPE=image/png:https://justsayyesky.org/wp-content/uploads/2026/02/unnamed-1.png
END:VEVENT
BEGIN:VEVENT
DTSTART;TZID=UTC:20260908T170000
DTEND;TZID=UTC:20260908T180000
DTSTAMP:20260423T180216
CREATED:20260115T180057Z
LAST-MODIFIED:20260115T180057Z
UID:10003995-1788886800-1788890400@justsayyesky.org
SUMMARY:Beginner Acro
DESCRIPTION:Designed with the beginning acro student (ages 8-11) in mind\, Beginning Acro introduces basic gymnastic concepts in conjunction with basic dance training. Pre-Professional Division students with experience in Youth Division Acro\, or no former acro training\, are encouraged to start in this Pre-Professional Division class.
URL:https://justsayyesky.org/event/beginner-acro/2026-09-08/
LOCATION:Kentucky Dance Academy\, 316 Wapping Street\, Frankfort\, Kentucky\, 40601\, United States
CATEGORIES:Elementary School,Middle School,YES Card Accepted
ATTACH;FMTTYPE=image/jpeg:https://justsayyesky.org/wp-content/uploads/2026/01/612052612_18299302228272126_9063933446306011561_n.jpg
ORGANIZER;CN="Kentucy Dance Academy":MAILTO:amanda@kydanceacademy.com
END:VEVENT
BEGIN:VEVENT
DTSTART;TZID=UTC:20260912T100000
DTEND;TZID=UTC:20260912T120000
DTSTAMP:20260423T180216
CREATED:20250829T015459Z
LAST-MODIFIED:20250829T015459Z
UID:10003868-1789207200-1789214400@justsayyesky.org
SUMMARY:Red Oaks Forest School Art Club
DESCRIPTION:Josephine Sculpture Park partners up with Red Oaks Forest School to host a free\, all-ages Art Club the second Saturday of each month! Art and nature are perfect partners. Creating art helps us explore our feelings and deepen observations of the world around us. Nature is constantly inspiring so many feelings\, wonders\, thoughts\, questions\, and more. Spending time in nature and making art\, both help to reduce stress and explore feelings\, which can be so important for kids\, especially in underserved communities. \nAll ages are welcome for an open art studio in nature. We welcome registration by email to ensure there are plenty of materials available at registration@redoaksforestschool.org.
URL:https://justsayyesky.org/event/red-oaks-forest-school-art-club/2026-09-12/
LOCATION:Josephine Sculpture Park\, 3355 Lawrenceburg Road\, Frankfort\, KY\, 40601\, United States
CATEGORIES:Art,Elementary School,FREE,Middle School
ORGANIZER;CN="Josephine Sculpture Park":MAILTO:info@josephinesculpturepark.org
END:VEVENT
BEGIN:VEVENT
DTSTART;TZID=UTC:20260915T160000
DTEND;TZID=UTC:20260915T170000
DTSTAMP:20260423T180217
CREATED:20260203T174618Z
LAST-MODIFIED:20260203T174618Z
UID:10004271-1789488000-1789491600@justsayyesky.org
SUMMARY:Broadway Clay Kids Class Tuesdays
DESCRIPTION:Every Tuesday from 4-5pm kids can have a pottery night at Broadway Clay!
URL:https://justsayyesky.org/event/broadway-clay-kids-class-tuesdays/2026-09-15/
CATEGORIES:Elementary School,High School,Middle School,YES Card Accepted
ATTACH;FMTTYPE=image/png:https://justsayyesky.org/wp-content/uploads/2026/02/unnamed-1.png
END:VEVENT
BEGIN:VEVENT
DTSTART;TZID=UTC:20260915T170000
DTEND;TZID=UTC:20260915T180000
DTSTAMP:20260423T180217
CREATED:20260115T180057Z
LAST-MODIFIED:20260115T180057Z
UID:10003996-1789491600-1789495200@justsayyesky.org
SUMMARY:Beginner Acro
DESCRIPTION:Designed with the beginning acro student (ages 8-11) in mind\, Beginning Acro introduces basic gymnastic concepts in conjunction with basic dance training. Pre-Professional Division students with experience in Youth Division Acro\, or no former acro training\, are encouraged to start in this Pre-Professional Division class.
URL:https://justsayyesky.org/event/beginner-acro/2026-09-15/
LOCATION:Kentucky Dance Academy\, 316 Wapping Street\, Frankfort\, Kentucky\, 40601\, United States
CATEGORIES:Elementary School,Middle School,YES Card Accepted
ATTACH;FMTTYPE=image/jpeg:https://justsayyesky.org/wp-content/uploads/2026/01/612052612_18299302228272126_9063933446306011561_n.jpg
ORGANIZER;CN="Kentucy Dance Academy":MAILTO:amanda@kydanceacademy.com
END:VEVENT
BEGIN:VEVENT
DTSTART;TZID=UTC:20260922T160000
DTEND;TZID=UTC:20260922T170000
DTSTAMP:20260423T180217
CREATED:20260203T174618Z
LAST-MODIFIED:20260203T174618Z
UID:10004272-1790092800-1790096400@justsayyesky.org
SUMMARY:Broadway Clay Kids Class Tuesdays
DESCRIPTION:Every Tuesday from 4-5pm kids can have a pottery night at Broadway Clay!
URL:https://justsayyesky.org/event/broadway-clay-kids-class-tuesdays/2026-09-22/
CATEGORIES:Elementary School,High School,Middle School,YES Card Accepted
ATTACH;FMTTYPE=image/png:https://justsayyesky.org/wp-content/uploads/2026/02/unnamed-1.png
END:VEVENT
BEGIN:VEVENT
DTSTART;TZID=UTC:20260922T170000
DTEND;TZID=UTC:20260922T180000
DTSTAMP:20260423T180217
CREATED:20260115T180057Z
LAST-MODIFIED:20260115T180057Z
UID:10003997-1790096400-1790100000@justsayyesky.org
SUMMARY:Beginner Acro
DESCRIPTION:Designed with the beginning acro student (ages 8-11) in mind\, Beginning Acro introduces basic gymnastic concepts in conjunction with basic dance training. Pre-Professional Division students with experience in Youth Division Acro\, or no former acro training\, are encouraged to start in this Pre-Professional Division class.
URL:https://justsayyesky.org/event/beginner-acro/2026-09-22/
LOCATION:Kentucky Dance Academy\, 316 Wapping Street\, Frankfort\, Kentucky\, 40601\, United States
CATEGORIES:Elementary School,Middle School,YES Card Accepted
ATTACH;FMTTYPE=image/jpeg:https://justsayyesky.org/wp-content/uploads/2026/01/612052612_18299302228272126_9063933446306011561_n.jpg
ORGANIZER;CN="Kentucy Dance Academy":MAILTO:amanda@kydanceacademy.com
END:VEVENT
BEGIN:VEVENT
DTSTART;TZID=UTC:20260929T160000
DTEND;TZID=UTC:20260929T170000
DTSTAMP:20260423T180217
CREATED:20260203T174618Z
LAST-MODIFIED:20260203T174618Z
UID:10004273-1790697600-1790701200@justsayyesky.org
SUMMARY:Broadway Clay Kids Class Tuesdays
DESCRIPTION:Every Tuesday from 4-5pm kids can have a pottery night at Broadway Clay!
URL:https://justsayyesky.org/event/broadway-clay-kids-class-tuesdays/2026-09-29/
CATEGORIES:Elementary School,High School,Middle School,YES Card Accepted
ATTACH;FMTTYPE=image/png:https://justsayyesky.org/wp-content/uploads/2026/02/unnamed-1.png
END:VEVENT
BEGIN:VEVENT
DTSTART;TZID=UTC:20260929T170000
DTEND;TZID=UTC:20260929T180000
DTSTAMP:20260423T180217
CREATED:20260115T180057Z
LAST-MODIFIED:20260115T180057Z
UID:10003998-1790701200-1790704800@justsayyesky.org
SUMMARY:Beginner Acro
DESCRIPTION:Designed with the beginning acro student (ages 8-11) in mind\, Beginning Acro introduces basic gymnastic concepts in conjunction with basic dance training. Pre-Professional Division students with experience in Youth Division Acro\, or no former acro training\, are encouraged to start in this Pre-Professional Division class.
URL:https://justsayyesky.org/event/beginner-acro/2026-09-29/
LOCATION:Kentucky Dance Academy\, 316 Wapping Street\, Frankfort\, Kentucky\, 40601\, United States
CATEGORIES:Elementary School,Middle School,YES Card Accepted
ATTACH;FMTTYPE=image/jpeg:https://justsayyesky.org/wp-content/uploads/2026/01/612052612_18299302228272126_9063933446306011561_n.jpg
ORGANIZER;CN="Kentucy Dance Academy":MAILTO:amanda@kydanceacademy.com
END:VEVENT
BEGIN:VEVENT
DTSTART;TZID=UTC:20261006T160000
DTEND;TZID=UTC:20261006T170000
DTSTAMP:20260423T180217
CREATED:20260115T184910Z
LAST-MODIFIED:20260115T184910Z
UID:10004206-1791302400-1791306000@justsayyesky.org
SUMMARY:Kids Classes at Broadway Clay
DESCRIPTION:Ages 7-17\nEach session includes 4 classes beginning on the first Tuesday of the month. \nKids classes are a way to explore clay while expanding creativity\, problem solving\, and building artistic techniques. Students will handbuild\, throw on the wheel\, and glaze. As students continue to attend monthly classes they will build upon their skills to work independently. Our instructors will customize the class for each age range.
URL:https://justsayyesky.org/event/kids-classes-at-broadway-clay/2026-10-06/
LOCATION:Broadway Clay\, 223 West Broadway\, Frankfort\, KY\, 40601\, United States
CATEGORIES:Art,Elementary School,High School,Middle School,YES Card Accepted
ATTACH;FMTTYPE=image/webp:https://justsayyesky.org/wp-content/uploads/2026/01/ET4Z4UPX227MMTYL7P3U74DE.webp
ORGANIZER;CN="Broadway Clay":MAILTO:BroadwayClayStudio@gmail.com
END:VEVENT
BEGIN:VEVENT
DTSTART;TZID=UTC:20261006T160000
DTEND;TZID=UTC:20261006T170000
DTSTAMP:20260423T180217
CREATED:20260203T174618Z
LAST-MODIFIED:20260203T174618Z
UID:10004274-1791302400-1791306000@justsayyesky.org
SUMMARY:Broadway Clay Kids Class Tuesdays
DESCRIPTION:Every Tuesday from 4-5pm kids can have a pottery night at Broadway Clay!
URL:https://justsayyesky.org/event/broadway-clay-kids-class-tuesdays/2026-10-06/
CATEGORIES:Elementary School,High School,Middle School,YES Card Accepted
ATTACH;FMTTYPE=image/png:https://justsayyesky.org/wp-content/uploads/2026/02/unnamed-1.png
END:VEVENT
END:VCALENDAR