BEGIN:VCALENDAR
VERSION:2.0
PRODID:-//Just Say Yes - ECPv6.15.20//NONSGML v1.0//EN
CALSCALE:GREGORIAN
METHOD:PUBLISH
X-WR-CALNAME:Just Say Yes
X-ORIGINAL-URL:https://justsayyesky.org
X-WR-CALDESC:Events for Just Say Yes
REFRESH-INTERVAL;VALUE=DURATION:PT1H
X-Robots-Tag:noindex
X-PUBLISHED-TTL:PT1H
BEGIN:VTIMEZONE
TZID:UTC
BEGIN:STANDARD
TZOFFSETFROM:+0000
TZOFFSETTO:+0000
TZNAME:UTC
DTSTART:20250101T000000
END:STANDARD
END:VTIMEZONE
BEGIN:VEVENT
DTSTART;TZID=UTC:20260611T173000
DTEND;TZID=UTC:20260611T203000
DTSTAMP:20260423T235616
CREATED:20260115T190319Z
LAST-MODIFIED:20260115T190319Z
UID:10004212-1781199000-1781209800@justsayyesky.org
SUMMARY:Youth Paddle Club
DESCRIPTION:A paddle club provided by Canoe Kentucky for kids of any age! With a one time cost of $50.00\, Yes Cards are accepted.
URL:https://justsayyesky.org/event/youth-paddle-club/2026-06-11/
CATEGORIES:YES Card Accepted
ATTACH;FMTTYPE=image/png:https://justsayyesky.org/wp-content/uploads/2026/01/download-10.png
END:VEVENT
BEGIN:VEVENT
DTSTART;TZID=UTC:20260618T173000
DTEND;TZID=UTC:20260618T203000
DTSTAMP:20260423T235616
CREATED:20260115T190319Z
LAST-MODIFIED:20260115T190319Z
UID:10004213-1781803800-1781814600@justsayyesky.org
SUMMARY:Youth Paddle Club
DESCRIPTION:A paddle club provided by Canoe Kentucky for kids of any age! With a one time cost of $50.00\, Yes Cards are accepted.
URL:https://justsayyesky.org/event/youth-paddle-club/2026-06-18/
CATEGORIES:YES Card Accepted
ATTACH;FMTTYPE=image/png:https://justsayyesky.org/wp-content/uploads/2026/01/download-10.png
END:VEVENT
BEGIN:VEVENT
DTSTART;TZID=UTC:20260709T173000
DTEND;TZID=UTC:20260709T203000
DTSTAMP:20260423T235616
CREATED:20260115T190319Z
LAST-MODIFIED:20260115T190319Z
UID:10004214-1783618200-1783629000@justsayyesky.org
SUMMARY:Youth Paddle Club
DESCRIPTION:A paddle club provided by Canoe Kentucky for kids of any age! With a one time cost of $50.00\, Yes Cards are accepted.
URL:https://justsayyesky.org/event/youth-paddle-club/2026-07-09/
CATEGORIES:YES Card Accepted
ATTACH;FMTTYPE=image/png:https://justsayyesky.org/wp-content/uploads/2026/01/download-10.png
END:VEVENT
BEGIN:VEVENT
DTSTART;TZID=UTC:20260723T173000
DTEND;TZID=UTC:20260723T203000
DTSTAMP:20260423T235616
CREATED:20260115T190319Z
LAST-MODIFIED:20260115T190319Z
UID:10004215-1784827800-1784838600@justsayyesky.org
SUMMARY:Youth Paddle Club
DESCRIPTION:A paddle club provided by Canoe Kentucky for kids of any age! With a one time cost of $50.00\, Yes Cards are accepted.
URL:https://justsayyesky.org/event/youth-paddle-club/2026-07-23/
CATEGORIES:YES Card Accepted
ATTACH;FMTTYPE=image/png:https://justsayyesky.org/wp-content/uploads/2026/01/download-10.png
END:VEVENT
END:VCALENDAR