BEGIN:VCALENDAR
VERSION:2.0
PRODID:-//Just Say Yes - ECPv6.15.20//NONSGML v1.0//EN
CALSCALE:GREGORIAN
METHOD:PUBLISH
X-ORIGINAL-URL:https://justsayyesky.org
X-WR-CALDESC:Events for Just Say Yes
REFRESH-INTERVAL;VALUE=DURATION:PT1H
X-Robots-Tag:noindex
X-PUBLISHED-TTL:PT1H
BEGIN:VTIMEZONE
TZID:UTC
BEGIN:STANDARD
TZOFFSETFROM:+0000
TZOFFSETTO:+0000
TZNAME:UTC
DTSTART:20230101T000000
END:STANDARD
END:VTIMEZONE
BEGIN:VEVENT
DTSTART;VALUE=DATE:20241020
DTEND;VALUE=DATE:20241021
DTSTAMP:20260423T085403
CREATED:20240212T140320Z
LAST-MODIFIED:20240215T133548Z
UID:10000986-1729382400-1729468799@justsayyesky.org
SUMMARY:Free + Fun in Frankfort
DESCRIPTION:Looking for free activities in Frankfort? Here’s a few of our favorites. These Frankfort venues offer youth and family programming and are open to the public. \nCheck their websites and/or social media for up to date activities and times. \n\nJosephine Sculpture Park \nExplore nearly 70 works of art throughout 40 acres of native meadows and newly forested areas. Enjoy picnic areas\, native plants\, wildlife habitat and a rotating exhibit of contemporary art that is fun for the entire family. The best part? The Park is FREE to visit\, sunrise to sunset every day of the year. Josephine Sculpture Park also accepts Yes Cards for their paid programs and events. Visit their website to learn more. \n\nPaul Sawyier Public Library \nLocated in downtown Frankfort\, the library offers awesome programming for all ages! \n\nCove Springs Park \nCove Springs has hiking trails\, waterfalls and plenty of space to move. It’s free and open daily. \n\nFrankfort Public Art Tour \nWalk around downtown and find public art on every corner. Use the Visit Frankfort map to find them or explore on your own. \n\nCapital City Museum \nThe Capital City Museum is open Monday through Saturday\, 10:00 AM to 4:00 PM. There’s no admission fee. Exhibits cover a variety of Frankfort history and fun. \n\nDaniel Boone’s Grave \nIt may seem odd to visit a cemetery\, but this is a historic spot! The Frankfort Cemetery overlooks the Kentucky River and the Kentucky State Capitol. \n\nSwitzer Covered Bridge \nIf you need to get outside and explore\, check out Frankfort’s covered bridge. Built by George Hockersmith c.1855\, this historic bridge is 120 ft. long\, 11 ft. wide\, and of Howe truss design.  Each entrance has a saw tooth edge. Rebuilt in 1998\, the bridge is on the National Historic Register. Hours are dawn to dusk. \n\nLeslie Morris Park on Fort Hill \nLeslie Morris Park on Fort Hill features two Civil War earthen forts\, the Sullivan House visitor / interpretive center\, the Gippy Graham picnic pavilion\, a scenic downtown Frankfort overlook and several hiking trails\, paved and natural single track surface. Free guided tours are available. Visit their website for more information. \n\nBe a Frankfort Tourist \nTour your own town! Visit Frankfort offers walking tours and self guided digital tours. Visit their website to find times and locations for guided tours as well.
URL:https://justsayyesky.org/event/freeinfrankfort/2024-10-20/
CATEGORIES:Art,Elementary School,Family Fun,FREE,High School,Middle School,Parents and Caregivers,YES Card Accepted
ATTACH;FMTTYPE=image/jpeg:https://justsayyesky.org/wp-content/uploads/2024/02/free-and-fun.jpg
END:VEVENT
BEGIN:VEVENT
DTSTART;VALUE=DATE:20241021
DTEND;VALUE=DATE:20241022
DTSTAMP:20260423T085403
CREATED:20240212T140320Z
LAST-MODIFIED:20240215T133548Z
UID:10000987-1729468800-1729555199@justsayyesky.org
SUMMARY:Free + Fun in Frankfort
DESCRIPTION:Looking for free activities in Frankfort? Here’s a few of our favorites. These Frankfort venues offer youth and family programming and are open to the public. \nCheck their websites and/or social media for up to date activities and times. \n\nJosephine Sculpture Park \nExplore nearly 70 works of art throughout 40 acres of native meadows and newly forested areas. Enjoy picnic areas\, native plants\, wildlife habitat and a rotating exhibit of contemporary art that is fun for the entire family. The best part? The Park is FREE to visit\, sunrise to sunset every day of the year. Josephine Sculpture Park also accepts Yes Cards for their paid programs and events. Visit their website to learn more. \n\nPaul Sawyier Public Library \nLocated in downtown Frankfort\, the library offers awesome programming for all ages! \n\nCove Springs Park \nCove Springs has hiking trails\, waterfalls and plenty of space to move. It’s free and open daily. \n\nFrankfort Public Art Tour \nWalk around downtown and find public art on every corner. Use the Visit Frankfort map to find them or explore on your own. \n\nCapital City Museum \nThe Capital City Museum is open Monday through Saturday\, 10:00 AM to 4:00 PM. There’s no admission fee. Exhibits cover a variety of Frankfort history and fun. \n\nDaniel Boone’s Grave \nIt may seem odd to visit a cemetery\, but this is a historic spot! The Frankfort Cemetery overlooks the Kentucky River and the Kentucky State Capitol. \n\nSwitzer Covered Bridge \nIf you need to get outside and explore\, check out Frankfort’s covered bridge. Built by George Hockersmith c.1855\, this historic bridge is 120 ft. long\, 11 ft. wide\, and of Howe truss design.  Each entrance has a saw tooth edge. Rebuilt in 1998\, the bridge is on the National Historic Register. Hours are dawn to dusk. \n\nLeslie Morris Park on Fort Hill \nLeslie Morris Park on Fort Hill features two Civil War earthen forts\, the Sullivan House visitor / interpretive center\, the Gippy Graham picnic pavilion\, a scenic downtown Frankfort overlook and several hiking trails\, paved and natural single track surface. Free guided tours are available. Visit their website for more information. \n\nBe a Frankfort Tourist \nTour your own town! Visit Frankfort offers walking tours and self guided digital tours. Visit their website to find times and locations for guided tours as well.
URL:https://justsayyesky.org/event/freeinfrankfort/2024-10-21/
CATEGORIES:Art,Elementary School,Family Fun,FREE,High School,Middle School,Parents and Caregivers,YES Card Accepted
ATTACH;FMTTYPE=image/jpeg:https://justsayyesky.org/wp-content/uploads/2024/02/free-and-fun.jpg
END:VEVENT
BEGIN:VEVENT
DTSTART;VALUE=DATE:20241022
DTEND;VALUE=DATE:20241023
DTSTAMP:20260423T085403
CREATED:20240212T140320Z
LAST-MODIFIED:20240215T133548Z
UID:10000988-1729555200-1729641599@justsayyesky.org
SUMMARY:Free + Fun in Frankfort
DESCRIPTION:Looking for free activities in Frankfort? Here’s a few of our favorites. These Frankfort venues offer youth and family programming and are open to the public. \nCheck their websites and/or social media for up to date activities and times. \n\nJosephine Sculpture Park \nExplore nearly 70 works of art throughout 40 acres of native meadows and newly forested areas. Enjoy picnic areas\, native plants\, wildlife habitat and a rotating exhibit of contemporary art that is fun for the entire family. The best part? The Park is FREE to visit\, sunrise to sunset every day of the year. Josephine Sculpture Park also accepts Yes Cards for their paid programs and events. Visit their website to learn more. \n\nPaul Sawyier Public Library \nLocated in downtown Frankfort\, the library offers awesome programming for all ages! \n\nCove Springs Park \nCove Springs has hiking trails\, waterfalls and plenty of space to move. It’s free and open daily. \n\nFrankfort Public Art Tour \nWalk around downtown and find public art on every corner. Use the Visit Frankfort map to find them or explore on your own. \n\nCapital City Museum \nThe Capital City Museum is open Monday through Saturday\, 10:00 AM to 4:00 PM. There’s no admission fee. Exhibits cover a variety of Frankfort history and fun. \n\nDaniel Boone’s Grave \nIt may seem odd to visit a cemetery\, but this is a historic spot! The Frankfort Cemetery overlooks the Kentucky River and the Kentucky State Capitol. \n\nSwitzer Covered Bridge \nIf you need to get outside and explore\, check out Frankfort’s covered bridge. Built by George Hockersmith c.1855\, this historic bridge is 120 ft. long\, 11 ft. wide\, and of Howe truss design.  Each entrance has a saw tooth edge. Rebuilt in 1998\, the bridge is on the National Historic Register. Hours are dawn to dusk. \n\nLeslie Morris Park on Fort Hill \nLeslie Morris Park on Fort Hill features two Civil War earthen forts\, the Sullivan House visitor / interpretive center\, the Gippy Graham picnic pavilion\, a scenic downtown Frankfort overlook and several hiking trails\, paved and natural single track surface. Free guided tours are available. Visit their website for more information. \n\nBe a Frankfort Tourist \nTour your own town! Visit Frankfort offers walking tours and self guided digital tours. Visit their website to find times and locations for guided tours as well.
URL:https://justsayyesky.org/event/freeinfrankfort/2024-10-22/
CATEGORIES:Art,Elementary School,Family Fun,FREE,High School,Middle School,Parents and Caregivers,YES Card Accepted
ATTACH;FMTTYPE=image/jpeg:https://justsayyesky.org/wp-content/uploads/2024/02/free-and-fun.jpg
END:VEVENT
BEGIN:VEVENT
DTSTART;VALUE=DATE:20241023
DTEND;VALUE=DATE:20241024
DTSTAMP:20260423T085403
CREATED:20240212T140320Z
LAST-MODIFIED:20240215T133548Z
UID:10000989-1729641600-1729727999@justsayyesky.org
SUMMARY:Free + Fun in Frankfort
DESCRIPTION:Looking for free activities in Frankfort? Here’s a few of our favorites. These Frankfort venues offer youth and family programming and are open to the public. \nCheck their websites and/or social media for up to date activities and times. \n\nJosephine Sculpture Park \nExplore nearly 70 works of art throughout 40 acres of native meadows and newly forested areas. Enjoy picnic areas\, native plants\, wildlife habitat and a rotating exhibit of contemporary art that is fun for the entire family. The best part? The Park is FREE to visit\, sunrise to sunset every day of the year. Josephine Sculpture Park also accepts Yes Cards for their paid programs and events. Visit their website to learn more. \n\nPaul Sawyier Public Library \nLocated in downtown Frankfort\, the library offers awesome programming for all ages! \n\nCove Springs Park \nCove Springs has hiking trails\, waterfalls and plenty of space to move. It’s free and open daily. \n\nFrankfort Public Art Tour \nWalk around downtown and find public art on every corner. Use the Visit Frankfort map to find them or explore on your own. \n\nCapital City Museum \nThe Capital City Museum is open Monday through Saturday\, 10:00 AM to 4:00 PM. There’s no admission fee. Exhibits cover a variety of Frankfort history and fun. \n\nDaniel Boone’s Grave \nIt may seem odd to visit a cemetery\, but this is a historic spot! The Frankfort Cemetery overlooks the Kentucky River and the Kentucky State Capitol. \n\nSwitzer Covered Bridge \nIf you need to get outside and explore\, check out Frankfort’s covered bridge. Built by George Hockersmith c.1855\, this historic bridge is 120 ft. long\, 11 ft. wide\, and of Howe truss design.  Each entrance has a saw tooth edge. Rebuilt in 1998\, the bridge is on the National Historic Register. Hours are dawn to dusk. \n\nLeslie Morris Park on Fort Hill \nLeslie Morris Park on Fort Hill features two Civil War earthen forts\, the Sullivan House visitor / interpretive center\, the Gippy Graham picnic pavilion\, a scenic downtown Frankfort overlook and several hiking trails\, paved and natural single track surface. Free guided tours are available. Visit their website for more information. \n\nBe a Frankfort Tourist \nTour your own town! Visit Frankfort offers walking tours and self guided digital tours. Visit their website to find times and locations for guided tours as well.
URL:https://justsayyesky.org/event/freeinfrankfort/2024-10-23/
CATEGORIES:Art,Elementary School,Family Fun,FREE,High School,Middle School,Parents and Caregivers,YES Card Accepted
ATTACH;FMTTYPE=image/jpeg:https://justsayyesky.org/wp-content/uploads/2024/02/free-and-fun.jpg
END:VEVENT
BEGIN:VEVENT
DTSTART;VALUE=DATE:20241024
DTEND;VALUE=DATE:20241025
DTSTAMP:20260423T085403
CREATED:20240212T140320Z
LAST-MODIFIED:20240215T133548Z
UID:10000990-1729728000-1729814399@justsayyesky.org
SUMMARY:Free + Fun in Frankfort
DESCRIPTION:Looking for free activities in Frankfort? Here’s a few of our favorites. These Frankfort venues offer youth and family programming and are open to the public. \nCheck their websites and/or social media for up to date activities and times. \n\nJosephine Sculpture Park \nExplore nearly 70 works of art throughout 40 acres of native meadows and newly forested areas. Enjoy picnic areas\, native plants\, wildlife habitat and a rotating exhibit of contemporary art that is fun for the entire family. The best part? The Park is FREE to visit\, sunrise to sunset every day of the year. Josephine Sculpture Park also accepts Yes Cards for their paid programs and events. Visit their website to learn more. \n\nPaul Sawyier Public Library \nLocated in downtown Frankfort\, the library offers awesome programming for all ages! \n\nCove Springs Park \nCove Springs has hiking trails\, waterfalls and plenty of space to move. It’s free and open daily. \n\nFrankfort Public Art Tour \nWalk around downtown and find public art on every corner. Use the Visit Frankfort map to find them or explore on your own. \n\nCapital City Museum \nThe Capital City Museum is open Monday through Saturday\, 10:00 AM to 4:00 PM. There’s no admission fee. Exhibits cover a variety of Frankfort history and fun. \n\nDaniel Boone’s Grave \nIt may seem odd to visit a cemetery\, but this is a historic spot! The Frankfort Cemetery overlooks the Kentucky River and the Kentucky State Capitol. \n\nSwitzer Covered Bridge \nIf you need to get outside and explore\, check out Frankfort’s covered bridge. Built by George Hockersmith c.1855\, this historic bridge is 120 ft. long\, 11 ft. wide\, and of Howe truss design.  Each entrance has a saw tooth edge. Rebuilt in 1998\, the bridge is on the National Historic Register. Hours are dawn to dusk. \n\nLeslie Morris Park on Fort Hill \nLeslie Morris Park on Fort Hill features two Civil War earthen forts\, the Sullivan House visitor / interpretive center\, the Gippy Graham picnic pavilion\, a scenic downtown Frankfort overlook and several hiking trails\, paved and natural single track surface. Free guided tours are available. Visit their website for more information. \n\nBe a Frankfort Tourist \nTour your own town! Visit Frankfort offers walking tours and self guided digital tours. Visit their website to find times and locations for guided tours as well.
URL:https://justsayyesky.org/event/freeinfrankfort/2024-10-24/
CATEGORIES:Art,Elementary School,Family Fun,FREE,High School,Middle School,Parents and Caregivers,YES Card Accepted
ATTACH;FMTTYPE=image/jpeg:https://justsayyesky.org/wp-content/uploads/2024/02/free-and-fun.jpg
END:VEVENT
BEGIN:VEVENT
DTSTART;VALUE=DATE:20241025
DTEND;VALUE=DATE:20241026
DTSTAMP:20260423T085403
CREATED:20240212T140320Z
LAST-MODIFIED:20240215T133548Z
UID:10000991-1729814400-1729900799@justsayyesky.org
SUMMARY:Free + Fun in Frankfort
DESCRIPTION:Looking for free activities in Frankfort? Here’s a few of our favorites. These Frankfort venues offer youth and family programming and are open to the public. \nCheck their websites and/or social media for up to date activities and times. \n\nJosephine Sculpture Park \nExplore nearly 70 works of art throughout 40 acres of native meadows and newly forested areas. Enjoy picnic areas\, native plants\, wildlife habitat and a rotating exhibit of contemporary art that is fun for the entire family. The best part? The Park is FREE to visit\, sunrise to sunset every day of the year. Josephine Sculpture Park also accepts Yes Cards for their paid programs and events. Visit their website to learn more. \n\nPaul Sawyier Public Library \nLocated in downtown Frankfort\, the library offers awesome programming for all ages! \n\nCove Springs Park \nCove Springs has hiking trails\, waterfalls and plenty of space to move. It’s free and open daily. \n\nFrankfort Public Art Tour \nWalk around downtown and find public art on every corner. Use the Visit Frankfort map to find them or explore on your own. \n\nCapital City Museum \nThe Capital City Museum is open Monday through Saturday\, 10:00 AM to 4:00 PM. There’s no admission fee. Exhibits cover a variety of Frankfort history and fun. \n\nDaniel Boone’s Grave \nIt may seem odd to visit a cemetery\, but this is a historic spot! The Frankfort Cemetery overlooks the Kentucky River and the Kentucky State Capitol. \n\nSwitzer Covered Bridge \nIf you need to get outside and explore\, check out Frankfort’s covered bridge. Built by George Hockersmith c.1855\, this historic bridge is 120 ft. long\, 11 ft. wide\, and of Howe truss design.  Each entrance has a saw tooth edge. Rebuilt in 1998\, the bridge is on the National Historic Register. Hours are dawn to dusk. \n\nLeslie Morris Park on Fort Hill \nLeslie Morris Park on Fort Hill features two Civil War earthen forts\, the Sullivan House visitor / interpretive center\, the Gippy Graham picnic pavilion\, a scenic downtown Frankfort overlook and several hiking trails\, paved and natural single track surface. Free guided tours are available. Visit their website for more information. \n\nBe a Frankfort Tourist \nTour your own town! Visit Frankfort offers walking tours and self guided digital tours. Visit their website to find times and locations for guided tours as well.
URL:https://justsayyesky.org/event/freeinfrankfort/2024-10-25/
CATEGORIES:Art,Elementary School,Family Fun,FREE,High School,Middle School,Parents and Caregivers,YES Card Accepted
ATTACH;FMTTYPE=image/jpeg:https://justsayyesky.org/wp-content/uploads/2024/02/free-and-fun.jpg
END:VEVENT
BEGIN:VEVENT
DTSTART;VALUE=DATE:20241026
DTEND;VALUE=DATE:20241027
DTSTAMP:20260423T085403
CREATED:20240212T140320Z
LAST-MODIFIED:20240215T133548Z
UID:10000992-1729900800-1729987199@justsayyesky.org
SUMMARY:Free + Fun in Frankfort
DESCRIPTION:Looking for free activities in Frankfort? Here’s a few of our favorites. These Frankfort venues offer youth and family programming and are open to the public. \nCheck their websites and/or social media for up to date activities and times. \n\nJosephine Sculpture Park \nExplore nearly 70 works of art throughout 40 acres of native meadows and newly forested areas. Enjoy picnic areas\, native plants\, wildlife habitat and a rotating exhibit of contemporary art that is fun for the entire family. The best part? The Park is FREE to visit\, sunrise to sunset every day of the year. Josephine Sculpture Park also accepts Yes Cards for their paid programs and events. Visit their website to learn more. \n\nPaul Sawyier Public Library \nLocated in downtown Frankfort\, the library offers awesome programming for all ages! \n\nCove Springs Park \nCove Springs has hiking trails\, waterfalls and plenty of space to move. It’s free and open daily. \n\nFrankfort Public Art Tour \nWalk around downtown and find public art on every corner. Use the Visit Frankfort map to find them or explore on your own. \n\nCapital City Museum \nThe Capital City Museum is open Monday through Saturday\, 10:00 AM to 4:00 PM. There’s no admission fee. Exhibits cover a variety of Frankfort history and fun. \n\nDaniel Boone’s Grave \nIt may seem odd to visit a cemetery\, but this is a historic spot! The Frankfort Cemetery overlooks the Kentucky River and the Kentucky State Capitol. \n\nSwitzer Covered Bridge \nIf you need to get outside and explore\, check out Frankfort’s covered bridge. Built by George Hockersmith c.1855\, this historic bridge is 120 ft. long\, 11 ft. wide\, and of Howe truss design.  Each entrance has a saw tooth edge. Rebuilt in 1998\, the bridge is on the National Historic Register. Hours are dawn to dusk. \n\nLeslie Morris Park on Fort Hill \nLeslie Morris Park on Fort Hill features two Civil War earthen forts\, the Sullivan House visitor / interpretive center\, the Gippy Graham picnic pavilion\, a scenic downtown Frankfort overlook and several hiking trails\, paved and natural single track surface. Free guided tours are available. Visit their website for more information. \n\nBe a Frankfort Tourist \nTour your own town! Visit Frankfort offers walking tours and self guided digital tours. Visit their website to find times and locations for guided tours as well.
URL:https://justsayyesky.org/event/freeinfrankfort/2024-10-26/
CATEGORIES:Art,Elementary School,Family Fun,FREE,High School,Middle School,Parents and Caregivers,YES Card Accepted
ATTACH;FMTTYPE=image/jpeg:https://justsayyesky.org/wp-content/uploads/2024/02/free-and-fun.jpg
END:VEVENT
END:VCALENDAR