BEGIN:VCALENDAR
VERSION:2.0
PRODID:-//Just Say Yes - ECPv6.15.20//NONSGML v1.0//EN
CALSCALE:GREGORIAN
METHOD:PUBLISH
X-ORIGINAL-URL:https://justsayyesky.org
X-WR-CALDESC:Events for Just Say Yes
REFRESH-INTERVAL;VALUE=DURATION:PT1H
X-Robots-Tag:noindex
X-PUBLISHED-TTL:PT1H
BEGIN:VTIMEZONE
TZID:UTC
BEGIN:STANDARD
TZOFFSETFROM:+0000
TZOFFSETTO:+0000
TZNAME:UTC
DTSTART:20250101T000000
END:STANDARD
END:VTIMEZONE
BEGIN:VEVENT
DTSTART;VALUE=DATE:20260406
DTEND;VALUE=DATE:20260411
DTSTAMP:20260423T134619
CREATED:20260203T174025Z
LAST-MODIFIED:20260203T174025Z
UID:10004238-1775433600-1775865599@justsayyesky.org
SUMMARY:Broadway Clay Spring Break Camp
DESCRIPTION:A spring break camp hosted by Broadway Clay from April 6th- April 10th.
URL:https://justsayyesky.org/event/broadway-clay-spring-break-camp/
CATEGORIES:Elementary School,High School,Middle School,YES Card Accepted
ATTACH;FMTTYPE=image/png:https://justsayyesky.org/wp-content/uploads/2026/02/unnamed.png
END:VEVENT
BEGIN:VEVENT
DTSTART;VALUE=DATE:20260406
DTEND;VALUE=DATE:20260411
DTSTAMP:20260423T134619
CREATED:20260310T052004Z
LAST-MODIFIED:20260310T052004Z
UID:10004518-1775433600-1775865599@justsayyesky.org
SUMMARY:Spring break camp
DESCRIPTION:A spring break camp hosted by Versailles&Woodford Parks & REcreation
URL:https://justsayyesky.org/event/spring-break-camp/
CATEGORIES:Art,Elementary School,Family Fun,Middle School
ATTACH;FMTTYPE=image/jpeg:https://justsayyesky.org/wp-content/uploads/2026/03/640331993_1350820840412625_3030555734449238999_n-1.jpg
END:VEVENT
BEGIN:VEVENT
DTSTART;TZID=UTC:20260406T083000
DTEND;TZID=UTC:20260406T120000
DTSTAMP:20260423T134619
CREATED:20260310T055323Z
LAST-MODIFIED:20260310T055323Z
UID:10004531-1775464200-1775476800@justsayyesky.org
SUMMARY:Broadway Clay Painting Parties
DESCRIPTION:Organize your next social gathering or birthday party at the pottery studio! \nOur minimum for painting parties is $100 to reserve the studio outside of regular business hours and covers painting fees for up to 6 participants (not bisque item). If you have less than 6 people and just want to paint\, you are welcome to come anytime the studio is open. Additional participants over the 6 are $10 plus the ceramic item.
URL:https://justsayyesky.org/event/broadway-clay-painting-parties/2026-04-06/
CATEGORIES:Art,YES Card Accepted
END:VEVENT
BEGIN:VEVENT
DTSTART;TZID=UTC:20260406T090000
DTEND;TZID=UTC:20260410T120000
DTSTAMP:20260423T134619
CREATED:20260115T184421Z
LAST-MODIFIED:20260115T184422Z
UID:10004196-1775466000-1775822400@justsayyesky.org
SUMMARY:Spring Break Camp at Broadway Clay
DESCRIPTION:$170 \nAges 7-12 \nBroadway Clay offers week long clay camps in a professional studio environment. Through exploration\, students become independent learners who aren’t afraid to freely create and make messy mistakes! Our qualified instructors teach skills that allow students to develop artwork worthy for a portfolio. \nSpring Break Camp will cover hand building and throwing on the wheel techniques. Students generally create one wheel and one hand building project a day cumulating on the final day of glazing their creations.
URL:https://justsayyesky.org/event/spring-break-camp-at-broadway-clay/
LOCATION:Broadway Clay\, 223 West Broadway\, Frankfort\, KY\, 40601\, United States
CATEGORIES:Art,Elementary School,Middle School,Ticket Required,YES Card Accepted
ATTACH;FMTTYPE=image/webp:https://justsayyesky.org/wp-content/uploads/2026/01/A7VUOCQ5LFU6WJLQIW4DGHKF.webp
ORGANIZER;CN="Broadway Clay":MAILTO:BroadwayClayStudio@gmail.com
END:VEVENT
BEGIN:VEVENT
DTSTART;TZID=UTC:20260406T090000
DTEND;TZID=UTC:20260410T120000
DTSTAMP:20260423T134619
CREATED:20260310T054802Z
LAST-MODIFIED:20260310T054802Z
UID:10004525-1775466000-1775822400@justsayyesky.org
SUMMARY:Spring Break Camp
DESCRIPTION:Broadway Clay offers week long clay camps in a professional studio environment. Through exploration\, students become independent learners who aren’t afraid to freely create and make messy mistakes! Our qualified instructors teach skills that allow students to develop artwork worthy for a portfolio.
URL:https://justsayyesky.org/event/spring-break-camp-2/
CATEGORIES:Art
ATTACH;FMTTYPE=image/webp:https://justsayyesky.org/wp-content/uploads/2026/03/A7VUOCQ5LFU6WJLQIW4DGHKF.webp
END:VEVENT
BEGIN:VEVENT
DTSTART;TZID=UTC:20260406T090000
DTEND;TZID=UTC:20260410T170000
DTSTAMP:20260423T134619
CREATED:20260310T051447Z
LAST-MODIFIED:20260310T051447Z
UID:10004516-1775466000-1775840400@justsayyesky.org
SUMMARY:Woodfords Theater "Lost in the world of Poe"
DESCRIPTION:
URL:https://justsayyesky.org/event/woodfords-theater-lost-in-the-world-of-poe/
CATEGORIES:Art,Family Fun,FREE
ATTACH;FMTTYPE=image/png:https://justsayyesky.org/wp-content/uploads/2026/03/w_2454.png
END:VEVENT
BEGIN:VEVENT
DTSTART;TZID=UTC:20260406T190000
DTEND;TZID=UTC:20260406T200000
DTSTAMP:20260423T134619
CREATED:20260115T183019Z
LAST-MODIFIED:20260115T183019Z
UID:10004098-1775502000-1775505600@justsayyesky.org
SUMMARY:Starlight Yoga
DESCRIPTION:Calm and peaceful yoga for beginners. Bring your own mat or there are mats also provided.
URL:https://justsayyesky.org/event/starlight-yoga/2026-04-06/
LOCATION:undisputed fitness\, 312 Lewis St\, frankfort\, KY\, 40601\, United States
CATEGORIES:Family Fun,YES Card Accepted
ATTACH;FMTTYPE=image/jpeg:https://justsayyesky.org/wp-content/uploads/2026/01/607038932_122159408576408433_3708154659900450691_n.jpg
END:VEVENT
BEGIN:VEVENT
DTSTART;TZID=UTC:20260407T160000
DTEND;TZID=UTC:20260407T170000
DTSTAMP:20260423T134620
CREATED:20260115T184910Z
LAST-MODIFIED:20260115T184910Z
UID:10004200-1775577600-1775581200@justsayyesky.org
SUMMARY:Kids Classes at Broadway Clay
DESCRIPTION:Ages 7-17\nEach session includes 4 classes beginning on the first Tuesday of the month. \nKids classes are a way to explore clay while expanding creativity\, problem solving\, and building artistic techniques. Students will handbuild\, throw on the wheel\, and glaze. As students continue to attend monthly classes they will build upon their skills to work independently. Our instructors will customize the class for each age range.
URL:https://justsayyesky.org/event/kids-classes-at-broadway-clay/2026-04-07/
LOCATION:Broadway Clay\, 223 West Broadway\, Frankfort\, KY\, 40601\, United States
CATEGORIES:Art,Elementary School,High School,Middle School,YES Card Accepted
ATTACH;FMTTYPE=image/webp:https://justsayyesky.org/wp-content/uploads/2026/01/ET4Z4UPX227MMTYL7P3U74DE.webp
ORGANIZER;CN="Broadway Clay":MAILTO:BroadwayClayStudio@gmail.com
END:VEVENT
BEGIN:VEVENT
DTSTART;TZID=UTC:20260407T160000
DTEND;TZID=UTC:20260407T170000
DTSTAMP:20260423T134620
CREATED:20260203T174618Z
LAST-MODIFIED:20260203T174618Z
UID:10004248-1775577600-1775581200@justsayyesky.org
SUMMARY:Broadway Clay Kids Class Tuesdays
DESCRIPTION:Every Tuesday from 4-5pm kids can have a pottery night at Broadway Clay!
URL:https://justsayyesky.org/event/broadway-clay-kids-class-tuesdays/2026-04-07/
CATEGORIES:Elementary School,High School,Middle School,YES Card Accepted
ATTACH;FMTTYPE=image/png:https://justsayyesky.org/wp-content/uploads/2026/02/unnamed-1.png
END:VEVENT
BEGIN:VEVENT
DTSTART;TZID=UTC:20260407T170000
DTEND;TZID=UTC:20260407T180000
DTSTAMP:20260423T134620
CREATED:20250125T142622Z
LAST-MODIFIED:20250125T142622Z
UID:10001809-1775581200-1775584800@justsayyesky.org
SUMMARY:Messy Minis (Ages 4-9)
DESCRIPTION:Time: 5:15pm to 6:15pm \nDate: Each session includes four classes beginning on the first Tuesday of the month. \nAge: 4-9 (ages 4 & 5 adult must come with child; Ages 6 & up is optional) \nCost: $65 for Child and Adult together for the month session \nWelcome to the wild and wonderful world of clay! This is our beginners class for kids. Students will throw on the wheel\, sculpt clay\, and hand-build functional pottery. \nThese classes are for children ages four to nine\, plus one adult (optional for older children). Kids and their special adult will explore clay while expanding creativity\, practice problem solving\, and build artistic techniques by creating their own projects. As students continue the classes each month they will build skills and can eventually become an independent artist!
URL:https://justsayyesky.org/event/messy-minis-ages-4-9/2026-04-07/
LOCATION:Broadway Clay\, 223 West Broadway\, Frankfort\, KY\, 40601\, United States
CATEGORIES:Art,Elementary School,Family Fun,Ticket Required,YES Card Accepted
ATTACH;FMTTYPE=image/webp:https://justsayyesky.org/wp-content/uploads/2024/10/s236415246785929882_p500_i21_w1080.webp
ORGANIZER;CN="Broadway Clay":MAILTO:BroadwayClayStudio@gmail.com
END:VEVENT
BEGIN:VEVENT
DTSTART;TZID=UTC:20260407T170000
DTEND;TZID=UTC:20260407T180000
DTSTAMP:20260423T134620
CREATED:20260115T180057Z
LAST-MODIFIED:20260115T180057Z
UID:10003973-1775581200-1775584800@justsayyesky.org
SUMMARY:Beginner Acro
DESCRIPTION:Designed with the beginning acro student (ages 8-11) in mind\, Beginning Acro introduces basic gymnastic concepts in conjunction with basic dance training. Pre-Professional Division students with experience in Youth Division Acro\, or no former acro training\, are encouraged to start in this Pre-Professional Division class.
URL:https://justsayyesky.org/event/beginner-acro/2026-04-07/
LOCATION:Kentucky Dance Academy\, 316 Wapping Street\, Frankfort\, Kentucky\, 40601\, United States
CATEGORIES:Elementary School,Middle School,YES Card Accepted
ATTACH;FMTTYPE=image/jpeg:https://justsayyesky.org/wp-content/uploads/2026/01/612052612_18299302228272126_9063933446306011561_n.jpg
ORGANIZER;CN="Kentucy Dance Academy":MAILTO:amanda@kydanceacademy.com
END:VEVENT
BEGIN:VEVENT
DTSTART;TZID=UTC:20260408T090000
DTEND;TZID=UTC:20260626T170000
DTSTAMP:20260423T134620
CREATED:20260310T053414Z
LAST-MODIFIED:20260310T053414Z
UID:10004521-1775638800-1782493200@justsayyesky.org
SUMMARY:School of Rock
DESCRIPTION:Rock got no reason\, rock got no rhyme… You better get me to school on time! Andrew Lloyd Webber’s School of Rock: Young Actors Edition is a dynamic\, one-hour version of the musical based on the hit movie\, designed especially for young performers. The tuner follows Dewey Finn\, a failed\, wannabe rock star who decides to earn an extra bit of cash by posing as a substitute teacher at a prestigious prep school. There he turns a class of straight-A pupils into a guitar-shredding\, bass-slapping\, mind-blowing rock band. But can he get them to the Battle of the Bands without their parents and the school’s headmistress finding out?\n\n*WOODFORD THEATER*
URL:https://justsayyesky.org/event/school-of-rock/
CATEGORIES:YES Card Accepted
END:VEVENT
BEGIN:VEVENT
DTSTART;TZID=UTC:20260409T160000
DTEND;TZID=UTC:20260409T170000
DTSTAMP:20260423T134620
CREATED:20250203T183348Z
LAST-MODIFIED:20250203T183348Z
UID:10002172-1775750400-1775754000@justsayyesky.org
SUMMARY:Infinity Kids Fitness Classes
DESCRIPTION:Ages 6-13 \nThursdays @ 4PM & Saturdays @ 11am \n$50/ month
URL:https://justsayyesky.org/event/infinity-kids-fitness-classes/2026-04-09/
ATTACH;FMTTYPE=image/png:https://justsayyesky.org/wp-content/uploads/2025/02/Screenshot-2025-02-03-at-1.33.15 PM.png
END:VEVENT
BEGIN:VEVENT
DTSTART;VALUE=DATE:20260411
DTEND;VALUE=DATE:20260412
DTSTAMP:20260423T134620
CREATED:20260319T161411Z
LAST-MODIFIED:20260319T161411Z
UID:10004797-1775865600-1775951999@justsayyesky.org
SUMMARY:Flight Lesson
DESCRIPTION:A flight lesson taught by the Capital City Airport Division! For students 14-18 and it costs $65!
URL:https://justsayyesky.org/event/flight-lesson/
CATEGORIES:Ticket Required
END:VEVENT
BEGIN:VEVENT
DTSTART;TZID=UTC:20260411T080000
DTEND;TZID=UTC:20260411T170000
DTSTAMP:20260423T134620
CREATED:20260115T183633Z
LAST-MODIFIED:20260115T183633Z
UID:10004188-1775894400-1775926800@justsayyesky.org
SUMMARY:Red Oaks Forest School Art Club
DESCRIPTION:An art club at Josephine Sculpture Park where kids get to be social\, have fun\, get creative while also being outdoors!
URL:https://justsayyesky.org/event/red-oaks-forest-school-art-club-2/2026-04-11/
CATEGORIES:Art,FREE,YES Card Accepted
ATTACH;FMTTYPE=image/jpeg:https://justsayyesky.org/wp-content/uploads/2026/01/605430746_1325121739645401_8142742107945850803_n.jpg
END:VEVENT
BEGIN:VEVENT
DTSTART;TZID=UTC:20260411T083000
DTEND;TZID=UTC:20260411T120000
DTSTAMP:20260423T134620
CREATED:20240424T143235Z
LAST-MODIFIED:20240424T155228Z
UID:10001288-1775896200-1775908800@justsayyesky.org
SUMMARY:Franklin County Farmers Market
DESCRIPTION:Walk through our market and see fresh produce\, eggs\, breads\, meats\, jams and salsa\, cheese\, soap\, plants\, and more\, all produced in Franklin and surrounding counties.  Enjoy fresh food\, support local farmers\, and chat with friends. \nKids Days at the Market are held every month on the second Saturday. More information coming soon!
URL:https://justsayyesky.org/event/franklin-county-farmers-market/2026-04-11/
LOCATION:Market Pavilion at River View Park\, 404 Wilkinson Blvd\, Frankfort\, 40601\, United States
CATEGORIES:Family Fun
ATTACH;FMTTYPE=image/jpeg:https://justsayyesky.org/wp-content/uploads/2024/04/326341322_1395911114550974_5256135233053342153_n.jpg
ORGANIZER;CN="Franklin County Farmers Market":MAILTO:local@franklincountyfarmersmarket.org
END:VEVENT
BEGIN:VEVENT
DTSTART;TZID=UTC:20260411T093000
DTEND;TZID=UTC:20260411T110000
DTSTAMP:20260423T134620
CREATED:20260310T055813Z
LAST-MODIFIED:20260310T055813Z
UID:10004790-1775899800-1775905200@justsayyesky.org
SUMMARY:Chicken Windchime Workshop
DESCRIPTION:Our studio artist will teach you how to create a Chicken from a pinch pot. You will then create legs that will hang inside of the Chicken to create your personal chicken wind chime. Feel free to bring ideas and images! \n*BROADWAY CLAY*
URL:https://justsayyesky.org/event/chicken-windchime-workshop/
CATEGORIES:Art,YES Card Accepted
ATTACH;FMTTYPE=image/webp:https://justsayyesky.org/wp-content/uploads/2026/03/ENQOCWIPIIAF6LF2M4NN26YF.webp
END:VEVENT
BEGIN:VEVENT
DTSTART;TZID=UTC:20260411T100000
DTEND;TZID=UTC:20260411T110000
DTSTAMP:20260423T134620
CREATED:20250125T140726Z
LAST-MODIFIED:20260115T181610Z
UID:10004025-1775901600-1775905200@justsayyesky.org
SUMMARY:Coffee with Cats & Donuts with Dogs
DESCRIPTION:What better way to start off your weekend than getting some lovin’ from our cats and dogs? On the 2nd Saturday of each month\, make plans to visit the LIFE House For Animals anytime between 10 AM – 11 AM to enjoy “Coffee With Cats & Donuts With Dogs.”\n\nYou can…\nRelax in our lobby and meet adoptable cats. Each room will be let out to play for 10-15 minutes so you can meet all of the cats available for adoption.\n\nOr…\nCome down to the play yard where we’ll have tables and chairs set up on the concrete areas. We’ll let out different dogs to meet\, greet\, and play with everyone.\n\nNo registration required – walk-ins are welcome! This event is kid-friendly and family-friendly.
URL:https://justsayyesky.org/event/coffee-with-cats-donuts-with-dogs-2/2026-04-11/
LOCATION:Lifehouse for Animals\, 14 Fido Court\, Frankfort\, 40601\, United States
CATEGORIES:Family Fun,FREE
ATTACH;FMTTYPE=image/png:https://justsayyesky.org/wp-content/uploads/2024/05/FLYER-Coffee-With-Cats-Donuts-With-Dogs-1.png
END:VEVENT
BEGIN:VEVENT
DTSTART;TZID=UTC:20260411T100000
DTEND;TZID=UTC:20260411T120000
DTSTAMP:20260423T134620
CREATED:20250829T015459Z
LAST-MODIFIED:20250829T015459Z
UID:10003863-1775901600-1775908800@justsayyesky.org
SUMMARY:Red Oaks Forest School Art Club
DESCRIPTION:Josephine Sculpture Park partners up with Red Oaks Forest School to host a free\, all-ages Art Club the second Saturday of each month! Art and nature are perfect partners. Creating art helps us explore our feelings and deepen observations of the world around us. Nature is constantly inspiring so many feelings\, wonders\, thoughts\, questions\, and more. Spending time in nature and making art\, both help to reduce stress and explore feelings\, which can be so important for kids\, especially in underserved communities. \nAll ages are welcome for an open art studio in nature. We welcome registration by email to ensure there are plenty of materials available at registration@redoaksforestschool.org.
URL:https://justsayyesky.org/event/red-oaks-forest-school-art-club/2026-04-11/
LOCATION:Josephine Sculpture Park\, 3355 Lawrenceburg Road\, Frankfort\, KY\, 40601\, United States
CATEGORIES:Art,Elementary School,FREE,Middle School
ORGANIZER;CN="Josephine Sculpture Park":MAILTO:info@josephinesculpturepark.org
END:VEVENT
BEGIN:VEVENT
DTSTART;TZID=UTC:20260411T110000
DTEND;TZID=UTC:20260411T120000
DTSTAMP:20260423T134620
CREATED:20250203T183526Z
LAST-MODIFIED:20250203T183526Z
UID:10002433-1775905200-1775908800@justsayyesky.org
SUMMARY:Infinity Kids Fitness Classes
DESCRIPTION:Ages 6-13 \nThursdays @ 4PM & Saturdays @ 11am \n$50/ month
URL:https://justsayyesky.org/event/infinity-kids-fitness-classes-2/2026-04-11/
ATTACH;FMTTYPE=image/png:https://justsayyesky.org/wp-content/uploads/2025/02/Screenshot-2025-02-03-at-1.34.45 PM.png
END:VEVENT
END:VCALENDAR