BEGIN:VCALENDAR
VERSION:2.0
PRODID:-//Just Say Yes - ECPv6.15.20//NONSGML v1.0//EN
CALSCALE:GREGORIAN
METHOD:PUBLISH
X-WR-CALNAME:Just Say Yes
X-ORIGINAL-URL:https://justsayyesky.org
X-WR-CALDESC:Events for Just Say Yes
REFRESH-INTERVAL;VALUE=DURATION:PT1H
X-Robots-Tag:noindex
X-PUBLISHED-TTL:PT1H
BEGIN:VTIMEZONE
TZID:UTC
BEGIN:STANDARD
TZOFFSETFROM:+0000
TZOFFSETTO:+0000
TZNAME:UTC
DTSTART:20250101T000000
END:STANDARD
END:VTIMEZONE
BEGIN:VEVENT
DTSTART;TZID=UTC:20260408T090000
DTEND;TZID=UTC:20260626T170000
DTSTAMP:20260423T171851
CREATED:20260310T053414Z
LAST-MODIFIED:20260310T053414Z
UID:10004521-1775638800-1782493200@justsayyesky.org
SUMMARY:School of Rock
DESCRIPTION:Rock got no reason\, rock got no rhyme… You better get me to school on time! Andrew Lloyd Webber’s School of Rock: Young Actors Edition is a dynamic\, one-hour version of the musical based on the hit movie\, designed especially for young performers. The tuner follows Dewey Finn\, a failed\, wannabe rock star who decides to earn an extra bit of cash by posing as a substitute teacher at a prestigious prep school. There he turns a class of straight-A pupils into a guitar-shredding\, bass-slapping\, mind-blowing rock band. But can he get them to the Battle of the Bands without their parents and the school’s headmistress finding out?\n\n*WOODFORD THEATER*
URL:https://justsayyesky.org/event/school-of-rock/
CATEGORIES:YES Card Accepted
END:VEVENT
BEGIN:VEVENT
DTSTART;TZID=UTC:20260415T093000
DTEND;TZID=UTC:20260618T143000
DTSTAMP:20260423T171851
CREATED:20260319T161730Z
LAST-MODIFIED:20260319T161730Z
UID:10004798-1776245400-1781793000@justsayyesky.org
SUMMARY:Summer Forest School
DESCRIPTION:Summer Forest School is a chance to explore\, learn\, and play with Red Oaks during the summer season. This drop-off program for ages 3-12 will provide a balance of mixed-age large group and similar-aged small group exploration\, education\, and play each day.
URL:https://justsayyesky.org/event/summer-forest-school/
END:VEVENT
BEGIN:VEVENT
DTSTART;TZID=UTC:20260518T083000
DTEND;TZID=UTC:20260518T120000
DTSTAMP:20260423T171851
CREATED:20260310T055323Z
LAST-MODIFIED:20260310T055323Z
UID:10004537-1779093000-1779105600@justsayyesky.org
SUMMARY:Broadway Clay Painting Parties
DESCRIPTION:Organize your next social gathering or birthday party at the pottery studio! \nOur minimum for painting parties is $100 to reserve the studio outside of regular business hours and covers painting fees for up to 6 participants (not bisque item). If you have less than 6 people and just want to paint\, you are welcome to come anytime the studio is open. Additional participants over the 6 are $10 plus the ceramic item.
URL:https://justsayyesky.org/event/broadway-clay-painting-parties/2026-05-18/
CATEGORIES:Art,YES Card Accepted
END:VEVENT
BEGIN:VEVENT
DTSTART;TZID=UTC:20260518T190000
DTEND;TZID=UTC:20260518T200000
DTSTAMP:20260423T171851
CREATED:20260115T183019Z
LAST-MODIFIED:20260115T183019Z
UID:10004104-1779130800-1779134400@justsayyesky.org
SUMMARY:Starlight Yoga
DESCRIPTION:Calm and peaceful yoga for beginners. Bring your own mat or there are mats also provided.
URL:https://justsayyesky.org/event/starlight-yoga/2026-05-18/
LOCATION:undisputed fitness\, 312 Lewis St\, frankfort\, KY\, 40601\, United States
CATEGORIES:Family Fun,YES Card Accepted
ATTACH;FMTTYPE=image/jpeg:https://justsayyesky.org/wp-content/uploads/2026/01/607038932_122159408576408433_3708154659900450691_n.jpg
END:VEVENT
BEGIN:VEVENT
DTSTART;TZID=UTC:20260519T160000
DTEND;TZID=UTC:20260519T170000
DTSTAMP:20260423T171851
CREATED:20260203T174618Z
LAST-MODIFIED:20260203T174618Z
UID:10004254-1779206400-1779210000@justsayyesky.org
SUMMARY:Broadway Clay Kids Class Tuesdays
DESCRIPTION:Every Tuesday from 4-5pm kids can have a pottery night at Broadway Clay!
URL:https://justsayyesky.org/event/broadway-clay-kids-class-tuesdays/2026-05-19/
CATEGORIES:Elementary School,High School,Middle School,YES Card Accepted
ATTACH;FMTTYPE=image/png:https://justsayyesky.org/wp-content/uploads/2026/02/unnamed-1.png
END:VEVENT
BEGIN:VEVENT
DTSTART;TZID=UTC:20260519T170000
DTEND;TZID=UTC:20260519T180000
DTSTAMP:20260423T171851
CREATED:20250125T142622Z
LAST-MODIFIED:20250125T142622Z
UID:10001815-1779210000-1779213600@justsayyesky.org
SUMMARY:Messy Minis (Ages 4-9)
DESCRIPTION:Time: 5:15pm to 6:15pm \nDate: Each session includes four classes beginning on the first Tuesday of the month. \nAge: 4-9 (ages 4 & 5 adult must come with child; Ages 6 & up is optional) \nCost: $65 for Child and Adult together for the month session \nWelcome to the wild and wonderful world of clay! This is our beginners class for kids. Students will throw on the wheel\, sculpt clay\, and hand-build functional pottery. \nThese classes are for children ages four to nine\, plus one adult (optional for older children). Kids and their special adult will explore clay while expanding creativity\, practice problem solving\, and build artistic techniques by creating their own projects. As students continue the classes each month they will build skills and can eventually become an independent artist!
URL:https://justsayyesky.org/event/messy-minis-ages-4-9/2026-05-19/
LOCATION:Broadway Clay\, 223 West Broadway\, Frankfort\, KY\, 40601\, United States
CATEGORIES:Art,Elementary School,Family Fun,Ticket Required,YES Card Accepted
ATTACH;FMTTYPE=image/webp:https://justsayyesky.org/wp-content/uploads/2024/10/s236415246785929882_p500_i21_w1080.webp
ORGANIZER;CN="Broadway Clay":MAILTO:BroadwayClayStudio@gmail.com
END:VEVENT
BEGIN:VEVENT
DTSTART;TZID=UTC:20260519T170000
DTEND;TZID=UTC:20260519T180000
DTSTAMP:20260423T171851
CREATED:20260115T180057Z
LAST-MODIFIED:20260115T180057Z
UID:10003979-1779210000-1779213600@justsayyesky.org
SUMMARY:Beginner Acro
DESCRIPTION:Designed with the beginning acro student (ages 8-11) in mind\, Beginning Acro introduces basic gymnastic concepts in conjunction with basic dance training. Pre-Professional Division students with experience in Youth Division Acro\, or no former acro training\, are encouraged to start in this Pre-Professional Division class.
URL:https://justsayyesky.org/event/beginner-acro/2026-05-19/
LOCATION:Kentucky Dance Academy\, 316 Wapping Street\, Frankfort\, Kentucky\, 40601\, United States
CATEGORIES:Elementary School,Middle School,YES Card Accepted
ATTACH;FMTTYPE=image/jpeg:https://justsayyesky.org/wp-content/uploads/2026/01/612052612_18299302228272126_9063933446306011561_n.jpg
ORGANIZER;CN="Kentucy Dance Academy":MAILTO:amanda@kydanceacademy.com
END:VEVENT
BEGIN:VEVENT
DTSTART;TZID=UTC:20260521T160000
DTEND;TZID=UTC:20260521T170000
DTSTAMP:20260423T171851
CREATED:20250203T183348Z
LAST-MODIFIED:20250203T183348Z
UID:10002178-1779379200-1779382800@justsayyesky.org
SUMMARY:Infinity Kids Fitness Classes
DESCRIPTION:Ages 6-13 \nThursdays @ 4PM & Saturdays @ 11am \n$50/ month
URL:https://justsayyesky.org/event/infinity-kids-fitness-classes/2026-05-21/
ATTACH;FMTTYPE=image/png:https://justsayyesky.org/wp-content/uploads/2025/02/Screenshot-2025-02-03-at-1.33.15 PM.png
END:VEVENT
BEGIN:VEVENT
DTSTART;TZID=UTC:20260523T083000
DTEND;TZID=UTC:20260523T120000
DTSTAMP:20260423T171851
CREATED:20240424T143235Z
LAST-MODIFIED:20240424T155228Z
UID:10001294-1779525000-1779537600@justsayyesky.org
SUMMARY:Franklin County Farmers Market
DESCRIPTION:Walk through our market and see fresh produce\, eggs\, breads\, meats\, jams and salsa\, cheese\, soap\, plants\, and more\, all produced in Franklin and surrounding counties.  Enjoy fresh food\, support local farmers\, and chat with friends. \nKids Days at the Market are held every month on the second Saturday. More information coming soon!
URL:https://justsayyesky.org/event/franklin-county-farmers-market/2026-05-23/
LOCATION:Market Pavilion at River View Park\, 404 Wilkinson Blvd\, Frankfort\, 40601\, United States
CATEGORIES:Family Fun
ATTACH;FMTTYPE=image/jpeg:https://justsayyesky.org/wp-content/uploads/2024/04/326341322_1395911114550974_5256135233053342153_n.jpg
ORGANIZER;CN="Franklin County Farmers Market":MAILTO:local@franklincountyfarmersmarket.org
END:VEVENT
BEGIN:VEVENT
DTSTART;TZID=UTC:20260523T110000
DTEND;TZID=UTC:20260523T120000
DTSTAMP:20260423T171851
CREATED:20250203T183526Z
LAST-MODIFIED:20250203T183526Z
UID:10002439-1779534000-1779537600@justsayyesky.org
SUMMARY:Infinity Kids Fitness Classes
DESCRIPTION:Ages 6-13 \nThursdays @ 4PM & Saturdays @ 11am \n$50/ month
URL:https://justsayyesky.org/event/infinity-kids-fitness-classes-2/2026-05-23/
ATTACH;FMTTYPE=image/png:https://justsayyesky.org/wp-content/uploads/2025/02/Screenshot-2025-02-03-at-1.34.45 PM.png
END:VEVENT
END:VCALENDAR