BEGIN:VCALENDAR
VERSION:2.0
PRODID:-//Just Say Yes - ECPv6.15.20//NONSGML v1.0//EN
CALSCALE:GREGORIAN
METHOD:PUBLISH
X-ORIGINAL-URL:https://justsayyesky.org
X-WR-CALDESC:Events for Just Say Yes
REFRESH-INTERVAL;VALUE=DURATION:PT1H
X-Robots-Tag:noindex
X-PUBLISHED-TTL:PT1H
BEGIN:VTIMEZONE
TZID:UTC
BEGIN:STANDARD
TZOFFSETFROM:+0000
TZOFFSETTO:+0000
TZNAME:UTC
DTSTART:20250101T000000
END:STANDARD
END:VTIMEZONE
BEGIN:VEVENT
DTSTART;TZID=UTC:20260408T090000
DTEND;TZID=UTC:20260626T170000
DTSTAMP:20260423T222311
CREATED:20260310T053414Z
LAST-MODIFIED:20260310T053414Z
UID:10004521-1775638800-1782493200@justsayyesky.org
SUMMARY:School of Rock
DESCRIPTION:Rock got no reason\, rock got no rhyme… You better get me to school on time! Andrew Lloyd Webber’s School of Rock: Young Actors Edition is a dynamic\, one-hour version of the musical based on the hit movie\, designed especially for young performers. The tuner follows Dewey Finn\, a failed\, wannabe rock star who decides to earn an extra bit of cash by posing as a substitute teacher at a prestigious prep school. There he turns a class of straight-A pupils into a guitar-shredding\, bass-slapping\, mind-blowing rock band. But can he get them to the Battle of the Bands without their parents and the school’s headmistress finding out?\n\n*WOODFORD THEATER*
URL:https://justsayyesky.org/event/school-of-rock/
CATEGORIES:YES Card Accepted
END:VEVENT
BEGIN:VEVENT
DTSTART;TZID=UTC:20260415T093000
DTEND;TZID=UTC:20260618T143000
DTSTAMP:20260423T222311
CREATED:20260319T161730Z
LAST-MODIFIED:20260319T161730Z
UID:10004798-1776245400-1781793000@justsayyesky.org
SUMMARY:Summer Forest School
DESCRIPTION:Summer Forest School is a chance to explore\, learn\, and play with Red Oaks during the summer season. This drop-off program for ages 3-12 will provide a balance of mixed-age large group and similar-aged small group exploration\, education\, and play each day.
URL:https://justsayyesky.org/event/summer-forest-school/
END:VEVENT
BEGIN:VEVENT
DTSTART;VALUE=DATE:20260608
DTEND;VALUE=DATE:20260613
DTSTAMP:20260423T222311
CREATED:20260115T182057Z
LAST-MODIFIED:20260115T182057Z
UID:10004035-1780876800-1781308799@justsayyesky.org
SUMMARY:4-H Camp
DESCRIPTION:
URL:https://justsayyesky.org/event/4-h-camp/
CATEGORIES:YES Card Accepted
ATTACH;FMTTYPE=image/jpeg:https://justsayyesky.org/wp-content/uploads/2026/01/608897171_1330311969122728_9108108554668691945_n.jpg
ORGANIZER;CN="Franklin County 4-H":MAILTO:MacKenzie.Preece@uky.edu
END:VEVENT
BEGIN:VEVENT
DTSTART;TZID=UTC:20260608T083000
DTEND;TZID=UTC:20260608T120000
DTSTAMP:20260423T222311
CREATED:20260310T055323Z
LAST-MODIFIED:20260310T055323Z
UID:10004540-1780907400-1780920000@justsayyesky.org
SUMMARY:Broadway Clay Painting Parties
DESCRIPTION:Organize your next social gathering or birthday party at the pottery studio! \nOur minimum for painting parties is $100 to reserve the studio outside of regular business hours and covers painting fees for up to 6 participants (not bisque item). If you have less than 6 people and just want to paint\, you are welcome to come anytime the studio is open. Additional participants over the 6 are $10 plus the ceramic item.
URL:https://justsayyesky.org/event/broadway-clay-painting-parties/2026-06-08/
CATEGORIES:Art,YES Card Accepted
END:VEVENT
BEGIN:VEVENT
DTSTART;TZID=UTC:20260608T090000
DTEND;TZID=UTC:20260626T170000
DTSTAMP:20260423T222311
CREATED:20260310T053208Z
LAST-MODIFIED:20260310T053208Z
UID:10004520-1780909200-1782493200@justsayyesky.org
SUMMARY:Madagascar Jr.
DESCRIPTION:Join Alex the Lion\, Marty the Zebra\, Melman the Giraffe\, Gloria the hip hip Hippo and\, of course\, those hilarious\, plotting penguins as they bound onto your stage in the musical adventure of a lifetime.  Based on the smash DreamWorks animated motion picture\, Madagascar – A Musical Adventure JR. follows all of your favorite friends as they escape from their home in New York’s Central Park Zoo and find themselves on an unexpected journey to the madcap world of King Julien’s Madagascar.   Alex the lion is the king of the urban jungle\, the main attraction at New York’s Central Park Zoo. He and his best friends — Marty the zebra\, Melman the giraffe and Gloria the hippo — have spent their whole lives in blissful captivity before an admiring public and with regular meals provided for them. Not content to leave well enough alone\, Marty lets his curiosity get the better of him and makes his escape — with the help of some prodigious penguins — to explore the world. \n*WOODFORD THEATER*
URL:https://justsayyesky.org/event/madagascar-jr/
CATEGORIES:YES Card Accepted
END:VEVENT
BEGIN:VEVENT
DTSTART;TZID=UTC:20260608T190000
DTEND;TZID=UTC:20260608T200000
DTSTAMP:20260423T222311
CREATED:20260115T183019Z
LAST-MODIFIED:20260115T183019Z
UID:10004107-1780945200-1780948800@justsayyesky.org
SUMMARY:Starlight Yoga
DESCRIPTION:Calm and peaceful yoga for beginners. Bring your own mat or there are mats also provided.
URL:https://justsayyesky.org/event/starlight-yoga/2026-06-08/
LOCATION:undisputed fitness\, 312 Lewis St\, frankfort\, KY\, 40601\, United States
CATEGORIES:Family Fun,YES Card Accepted
ATTACH;FMTTYPE=image/jpeg:https://justsayyesky.org/wp-content/uploads/2026/01/607038932_122159408576408433_3708154659900450691_n.jpg
END:VEVENT
BEGIN:VEVENT
DTSTART;TZID=UTC:20260609T160000
DTEND;TZID=UTC:20260609T170000
DTSTAMP:20260423T222311
CREATED:20260203T174618Z
LAST-MODIFIED:20260203T174618Z
UID:10004257-1781020800-1781024400@justsayyesky.org
SUMMARY:Broadway Clay Kids Class Tuesdays
DESCRIPTION:Every Tuesday from 4-5pm kids can have a pottery night at Broadway Clay!
URL:https://justsayyesky.org/event/broadway-clay-kids-class-tuesdays/2026-06-09/
CATEGORIES:Elementary School,High School,Middle School,YES Card Accepted
ATTACH;FMTTYPE=image/png:https://justsayyesky.org/wp-content/uploads/2026/02/unnamed-1.png
END:VEVENT
BEGIN:VEVENT
DTSTART;TZID=UTC:20260609T170000
DTEND;TZID=UTC:20260609T180000
DTSTAMP:20260423T222311
CREATED:20260115T180057Z
LAST-MODIFIED:20260115T180057Z
UID:10003982-1781024400-1781028000@justsayyesky.org
SUMMARY:Beginner Acro
DESCRIPTION:Designed with the beginning acro student (ages 8-11) in mind\, Beginning Acro introduces basic gymnastic concepts in conjunction with basic dance training. Pre-Professional Division students with experience in Youth Division Acro\, or no former acro training\, are encouraged to start in this Pre-Professional Division class.
URL:https://justsayyesky.org/event/beginner-acro/2026-06-09/
LOCATION:Kentucky Dance Academy\, 316 Wapping Street\, Frankfort\, Kentucky\, 40601\, United States
CATEGORIES:Elementary School,Middle School,YES Card Accepted
ATTACH;FMTTYPE=image/jpeg:https://justsayyesky.org/wp-content/uploads/2026/01/612052612_18299302228272126_9063933446306011561_n.jpg
ORGANIZER;CN="Kentucy Dance Academy":MAILTO:amanda@kydanceacademy.com
END:VEVENT
BEGIN:VEVENT
DTSTART;TZID=UTC:20260611T160000
DTEND;TZID=UTC:20260611T170000
DTSTAMP:20260423T222311
CREATED:20250203T183348Z
LAST-MODIFIED:20250203T183348Z
UID:10002181-1781193600-1781197200@justsayyesky.org
SUMMARY:Infinity Kids Fitness Classes
DESCRIPTION:Ages 6-13 \nThursdays @ 4PM & Saturdays @ 11am \n$50/ month
URL:https://justsayyesky.org/event/infinity-kids-fitness-classes/2026-06-11/
ATTACH;FMTTYPE=image/png:https://justsayyesky.org/wp-content/uploads/2025/02/Screenshot-2025-02-03-at-1.33.15 PM.png
END:VEVENT
BEGIN:VEVENT
DTSTART;TZID=UTC:20260611T173000
DTEND;TZID=UTC:20260611T203000
DTSTAMP:20260423T222311
CREATED:20260115T190319Z
LAST-MODIFIED:20260115T190319Z
UID:10004212-1781199000-1781209800@justsayyesky.org
SUMMARY:Youth Paddle Club
DESCRIPTION:A paddle club provided by Canoe Kentucky for kids of any age! With a one time cost of $50.00\, Yes Cards are accepted.
URL:https://justsayyesky.org/event/youth-paddle-club/2026-06-11/
CATEGORIES:YES Card Accepted
ATTACH;FMTTYPE=image/png:https://justsayyesky.org/wp-content/uploads/2026/01/download-10.png
END:VEVENT
BEGIN:VEVENT
DTSTART;TZID=UTC:20260613T083000
DTEND;TZID=UTC:20260613T120000
DTSTAMP:20260423T222311
CREATED:20240424T143235Z
LAST-MODIFIED:20240424T155228Z
UID:10001297-1781339400-1781352000@justsayyesky.org
SUMMARY:Franklin County Farmers Market
DESCRIPTION:Walk through our market and see fresh produce\, eggs\, breads\, meats\, jams and salsa\, cheese\, soap\, plants\, and more\, all produced in Franklin and surrounding counties.  Enjoy fresh food\, support local farmers\, and chat with friends. \nKids Days at the Market are held every month on the second Saturday. More information coming soon!
URL:https://justsayyesky.org/event/franklin-county-farmers-market/2026-06-13/
LOCATION:Market Pavilion at River View Park\, 404 Wilkinson Blvd\, Frankfort\, 40601\, United States
CATEGORIES:Family Fun
ATTACH;FMTTYPE=image/jpeg:https://justsayyesky.org/wp-content/uploads/2024/04/326341322_1395911114550974_5256135233053342153_n.jpg
ORGANIZER;CN="Franklin County Farmers Market":MAILTO:local@franklincountyfarmersmarket.org
END:VEVENT
BEGIN:VEVENT
DTSTART;TZID=UTC:20260613T100000
DTEND;TZID=UTC:20260613T110000
DTSTAMP:20260423T222311
CREATED:20250125T140726Z
LAST-MODIFIED:20260115T181610Z
UID:10004027-1781344800-1781348400@justsayyesky.org
SUMMARY:Coffee with Cats & Donuts with Dogs
DESCRIPTION:What better way to start off your weekend than getting some lovin’ from our cats and dogs? On the 2nd Saturday of each month\, make plans to visit the LIFE House For Animals anytime between 10 AM – 11 AM to enjoy “Coffee With Cats & Donuts With Dogs.”\n\nYou can…\nRelax in our lobby and meet adoptable cats. Each room will be let out to play for 10-15 minutes so you can meet all of the cats available for adoption.\n\nOr…\nCome down to the play yard where we’ll have tables and chairs set up on the concrete areas. We’ll let out different dogs to meet\, greet\, and play with everyone.\n\nNo registration required – walk-ins are welcome! This event is kid-friendly and family-friendly.
URL:https://justsayyesky.org/event/coffee-with-cats-donuts-with-dogs-2/2026-06-13/
LOCATION:Lifehouse for Animals\, 14 Fido Court\, Frankfort\, 40601\, United States
CATEGORIES:Family Fun,FREE
ATTACH;FMTTYPE=image/png:https://justsayyesky.org/wp-content/uploads/2024/05/FLYER-Coffee-With-Cats-Donuts-With-Dogs-1.png
END:VEVENT
BEGIN:VEVENT
DTSTART;TZID=UTC:20260613T100000
DTEND;TZID=UTC:20260613T120000
DTSTAMP:20260423T222311
CREATED:20250829T015459Z
LAST-MODIFIED:20250829T015459Z
UID:10003865-1781344800-1781352000@justsayyesky.org
SUMMARY:Red Oaks Forest School Art Club
DESCRIPTION:Josephine Sculpture Park partners up with Red Oaks Forest School to host a free\, all-ages Art Club the second Saturday of each month! Art and nature are perfect partners. Creating art helps us explore our feelings and deepen observations of the world around us. Nature is constantly inspiring so many feelings\, wonders\, thoughts\, questions\, and more. Spending time in nature and making art\, both help to reduce stress and explore feelings\, which can be so important for kids\, especially in underserved communities. \nAll ages are welcome for an open art studio in nature. We welcome registration by email to ensure there are plenty of materials available at registration@redoaksforestschool.org.
URL:https://justsayyesky.org/event/red-oaks-forest-school-art-club/2026-06-13/
LOCATION:Josephine Sculpture Park\, 3355 Lawrenceburg Road\, Frankfort\, KY\, 40601\, United States
CATEGORIES:Art,Elementary School,FREE,Middle School
ORGANIZER;CN="Josephine Sculpture Park":MAILTO:info@josephinesculpturepark.org
END:VEVENT
BEGIN:VEVENT
DTSTART;TZID=UTC:20260613T110000
DTEND;TZID=UTC:20260613T120000
DTSTAMP:20260423T222311
CREATED:20250203T183526Z
LAST-MODIFIED:20250203T183526Z
UID:10002442-1781348400-1781352000@justsayyesky.org
SUMMARY:Infinity Kids Fitness Classes
DESCRIPTION:Ages 6-13 \nThursdays @ 4PM & Saturdays @ 11am \n$50/ month
URL:https://justsayyesky.org/event/infinity-kids-fitness-classes-2/2026-06-13/
ATTACH;FMTTYPE=image/png:https://justsayyesky.org/wp-content/uploads/2025/02/Screenshot-2025-02-03-at-1.34.45 PM.png
END:VEVENT
END:VCALENDAR